BEGIN:VCALENDAR
PRODID:NingEventWidget-v1
VERSION:2.0
METHOD:PUBLISH
BEGIN:VTIMEZONE
TZID:America/Los_Angeles
X-LIC-LOCATION:America/Los_Angeles
BEGIN:DAYLIGHT
TZOFFSETFROM:-0800
TZOFFSETTO:-0700
TZNAME:PDT
DTSTART:19700308T020000
RRULE:FREQ=YEARLY;BYMONTH=3;BYDAY=2SU
END:DAYLIGHT
BEGIN:STANDARD
TZOFFSETFROM:-0700
TZOFFSETTO:-0800
TZNAME:PST
DTSTART:19701101T020000
RRULE:FREQ=YEARLY;BYMONTH=11;BYDAY=1SU
END:STANDARD
END:VTIMEZONE
BEGIN:VEVENT
UID:1464587:Event:401472
DTSTAMP:20260421T020825Z
SUMMARY:Angie Stone (WIN TICKETS)
DESCRIPTION:\n Friday-Saturday, September 5-6\nAngie Stone\nFriday, Se
 ptember 5 8pm & 10pm $54\nSaturday, September 6 7:30pm & 9:30pm $54\nY
 oshi's Oakland 510 Embarcadero West\nJack London Square\nOakland, CA 9
 4607\n» BUY TICKETS\n\n\nFor more information visit http://trueskool.
 com/events/angie-stone-win-tickets
DTSTART;TZID=America/Los_Angeles:20140905T200000
DTEND;TZID=America/Los_Angeles:20140906T230000
CATEGORIES:"bay area", oakland
LOCATION:Yoshi's, Oakland
WEBSITE:http://www.ticketfly.com/search/?q=Angie+Stone+Yoshi%27s+Oakla
 nd
URL:http://www.ticketfly.com/search/?q=Angie+Stone+Yoshi%27s+Oakland
CONTACT:
ORGANIZER:Yoshi's
ATTACH;FMTTYPE="image/jpeg":http://storage.ning.com/topology/rest/1.0/
 file/get/2247968074?profile=original
ATTENDEE;ROLE=REQ-PARTICIPANT;PARTSTAT=ACCEPTED;RSVP=TRUE;CN="Kimon Fl
 anagan":http://trueskool.com/profile/KimonFlanagan
ATTENDEE;ROLE=REQ-PARTICIPANT;PARTSTAT=ACCEPTED;RSVP=TRUE;CN=Easy:http
 ://trueskool.com/profile/DJEasy
ATTENDEE;ROLE=REQ-PARTICIPANT;PARTSTAT=ACCEPTED;RSVP=TRUE;CN="Elisa Bj
 eldanes":http://trueskool.com/profile/ElisaBjeldanes
ATTENDEE;ROLE=REQ-PARTICIPANT;PARTSTAT=ACCEPTED;RSVP=TRUE;CN="Fresh Ma
 ftoon":http://trueskool.com/profile/FreshMaftoon
ATTENDEE;ROLE=REQ-PARTICIPANT;PARTSTAT=ACCEPTED;RSVP=TRUE;CN="Monica M
  Dacumos":http://trueskool.com/profile/MonicaMDacumos
ATTENDEE;ROLE=REQ-PARTICIPANT;PARTSTAT=ACCEPTED;RSVP=TRUE;CN="Lynn Tej
 as":http://trueskool.com/profile/LynnB
ATTENDEE;ROLE=REQ-PARTICIPANT;PARTSTAT=ACCEPTED;RSVP=TRUE;CN="Pharaoh 
 Campbell":http://trueskool.com/profile/PharaohCampbell
ATTENDEE;ROLE=REQ-PARTICIPANT;PARTSTAT=ACCEPTED;RSVP=TRUE;CN="Editor's
  Pick":http://trueskool.com/profile/RentheVinylArchaeologist
ATTENDEE;ROLE=REQ-PARTICIPANT;PARTSTAT=ACCEPTED;RSVP=TRUE;CN=J:http://
 trueskool.com/profile/J321
ATTENDEE;ROLE=REQ-PARTICIPANT;PARTSTAT=ACCEPTED;RSVP=TRUE;CN="Martin F
 arfan":http://trueskool.com/profile/MartinFarfan
END:VEVENT
END:VCALENDAR
