BEGIN:VCALENDAR
PRODID:NingEventWidget-v1
VERSION:2.0
METHOD:PUBLISH
BEGIN:VTIMEZONE
TZID:America/Los_Angeles
X-LIC-LOCATION:America/Los_Angeles
BEGIN:DAYLIGHT
TZOFFSETFROM:-0800
TZOFFSETTO:-0700
TZNAME:PDT
DTSTART:19700308T020000
RRULE:FREQ=YEARLY;BYMONTH=3;BYDAY=2SU
END:DAYLIGHT
BEGIN:STANDARD
TZOFFSETFROM:-0700
TZOFFSETTO:-0800
TZNAME:PST
DTSTART:19701101T020000
RRULE:FREQ=YEARLY;BYMONTH=11;BYDAY=1SU
END:STANDARD
END:VTIMEZONE
BEGIN:VEVENT
UID:1464587:Event:640483
DTSTAMP:20260420T134557Z
SUMMARY:Angie Stone
DESCRIPTION:ANGIE STONEFriday Mar 11, 2016Doors: 9:45 PM Show: 10:00 P
 M$54\nYoshi's Oakland510 Embarcadero West Oakland, CA\n\nFor more info
 rmation visit http://trueskool.com/events/angie-stone-3
DTSTART;TZID=America/Los_Angeles:20160311T220000
DTEND;TZID=America/Los_Angeles:20160311T233000
CATEGORIES:"san francisco", oakland, berkley, "san jose", "bay area"
LOCATION:Yoshi's, Oakland
WEBSITE:https://www.ticketfly.com/purchase/event/928223?_ga=1.78624660
 .107816801.1452016509
URL:https://www.ticketfly.com/purchase/event/928223?_ga=1.78624660.107
 816801.1452016509
CONTACT:
ORGANIZER;CN="Editor's Pick":http://trueskool.com/profile/RentheVinylA
 rchaeologist
ATTACH;FMTTYPE="image/jpeg":http://storage.ning.com/topology/rest/1.0/
 file/get/2247982269?profile=original
ATTENDEE;ROLE=REQ-PARTICIPANT;PARTSTAT=ACCEPTED;RSVP=TRUE;CN="Editor's
  Pick":http://trueskool.com/profile/RentheVinylArchaeologist
END:VEVENT
END:VCALENDAR
