BEGIN:VCALENDAR
PRODID:NingEventWidget-v1
VERSION:2.0
METHOD:PUBLISH
BEGIN:VTIMEZONE
TZID:America/Los_Angeles
X-LIC-LOCATION:America/Los_Angeles
BEGIN:DAYLIGHT
TZOFFSETFROM:-0800
TZOFFSETTO:-0700
TZNAME:PDT
DTSTART:19700308T020000
RRULE:FREQ=YEARLY;BYMONTH=3;BYDAY=2SU
END:DAYLIGHT
BEGIN:STANDARD
TZOFFSETFROM:-0700
TZOFFSETTO:-0800
TZNAME:PST
DTSTART:19701101T020000
RRULE:FREQ=YEARLY;BYMONTH=11;BYDAY=1SU
END:STANDARD
END:VTIMEZONE
BEGIN:VEVENT
UID:1464587:Event:646749
DTSTAMP:20260420T151807Z
SUMMARY:ANDY MINEO
DESCRIPTION:ANDY MINEO\nTuesday, April 26, 2016Doors: 6:30PM |Show: 7:
 30PM\n1300 Van Ness AvenueSan Francisco, CA 94109(415) 673-5716THE REG
 ENCY BALLROOM\n\n\nFor more information visit http://trueskool.com/eve
 nts/andy-mineo-1
DTSTART;TZID=America/Los_Angeles:20160426T183000
DTEND;TZID=America/Los_Angeles:20160426T230000
CATEGORIES:"san francisco", oakland, berkley, "san jose", "bay area"
LOCATION:The Regency Ballroom, San Francisco
WEBSITE:http://www.axs.com/events/306701/andy-mineo-tickets?skin=golde
 nvoice
URL:http://www.axs.com/events/306701/andy-mineo-tickets?skin=goldenvoi
 ce
CONTACT:
ORGANIZER;CN="Editor's Pick":http://trueskool.com/profile/RentheVinylA
 rchaeologist
ATTACH;FMTTYPE="image/jpeg":http://storage.ning.com/topology/rest/1.0/
 file/get/2247987909?profile=original
ATTENDEE;ROLE=REQ-PARTICIPANT;PARTSTAT=ACCEPTED;RSVP=TRUE;CN="Editor's
  Pick":http://trueskool.com/profile/RentheVinylArchaeologist
END:VEVENT
END:VCALENDAR
