BEGIN:VCALENDAR
PRODID:NingEventWidget-v1
VERSION:2.0
METHOD:PUBLISH
BEGIN:VTIMEZONE
TZID:America/Los_Angeles
X-LIC-LOCATION:America/Los_Angeles
BEGIN:DAYLIGHT
TZOFFSETFROM:-0800
TZOFFSETTO:-0700
TZNAME:PDT
DTSTART:19700308T020000
RRULE:FREQ=YEARLY;BYMONTH=3;BYDAY=2SU
END:DAYLIGHT
BEGIN:STANDARD
TZOFFSETFROM:-0700
TZOFFSETTO:-0800
TZNAME:PST
DTSTART:19701101T020000
RRULE:FREQ=YEARLY;BYMONTH=11;BYDAY=1SU
END:STANDARD
END:VTIMEZONE
BEGIN:VEVENT
UID:1464587:Event:642140
DTSTAMP:20260420T102211Z
SUMMARY:ANDRE NICKATINA, MURS
DESCRIPTION:ENTER TO WIN A PAIR OF TICKETS. WINNER WILL BE DRAWN RANDO
 MLY AND ANNOUNCED 2 DAYS PRIOR TO EVENT.  \n\nSat, Mar 12, 2016\nWHI
 TE WIZARDS OF HIP HOP Andre Nickatina, Murs DJ Abilities, Mac Lethal, 
 Who Cares, Bukue One\n\n\n\nThe Regency Ballroom 1300 Van Ness Avenue 
 San Francisco, CA 94109 Ages: All Ages Doors Open: 7:00PM. Show: 8:00P
 M Starting from: $36.00 Door Price: Starting from: $40.00 >> BUY TICKE
 TS\n\n\nFor more information visit http://trueskool.com/events/andre-n
 ickatina
DTSTART;TZID=America/Los_Angeles:20160312T200000
DTEND;TZID=America/Los_Angeles:20160312T230000
CATEGORIES:"san francisco", oakland, berkley, "san jose", "bay area"
LOCATION:The Regency Ballroom, San Francisco
WEBSITE:http://www.axs.com/events/306505/andre-nickatina-murs-tickets?
 skin=goldenvoice
URL:http://www.axs.com/events/306505/andre-nickatina-murs-tickets?skin
 =goldenvoice
CONTACT:
ORGANIZER;CN="Editor's Pick":http://trueskool.com/profile/RentheVinylA
 rchaeologist
ATTACH;FMTTYPE="image/jpeg":http://storage.ning.com/topology/rest/1.0/
 file/get/2247985204?profile=original
ATTENDEE;ROLE=REQ-PARTICIPANT;PARTSTAT=ACCEPTED;RSVP=TRUE;CN="Editor's
  Pick":http://trueskool.com/profile/RentheVinylArchaeologist
ATTENDEE;ROLE=REQ-PARTICIPANT;PARTSTAT=ACCEPTED;RSVP=TRUE;CN="Jon Schr
 oeder":http://trueskool.com/profile/JonSchroeder
END:VEVENT
END:VCALENDAR
