BEGIN:VCALENDAR
PRODID:NingEventWidget-v1
VERSION:2.0
METHOD:PUBLISH
BEGIN:VTIMEZONE
TZID:America/Los_Angeles
X-LIC-LOCATION:America/Los_Angeles
BEGIN:DAYLIGHT
TZOFFSETFROM:-0800
TZOFFSETTO:-0700
TZNAME:PDT
DTSTART:19700308T020000
RRULE:FREQ=YEARLY;BYMONTH=3;BYDAY=2SU
END:DAYLIGHT
BEGIN:STANDARD
TZOFFSETFROM:-0700
TZOFFSETTO:-0800
TZNAME:PST
DTSTART:19701101T020000
RRULE:FREQ=YEARLY;BYMONTH=11;BYDAY=1SU
END:STANDARD
END:VTIMEZONE
BEGIN:VEVENT
UID:1464587:Event:656264
DTSTAMP:20260421T102116Z
SUMMARY:Andre Nickatina, Rappin 4-Tay, Chali 2na, Yukmouth, A-Plus, Tr
 axamillion, Deacon The Villain, Del The Funky Homosapien, AMP Live, Do
 mino
DESCRIPTION: ENTER TO WIN A PAIR OF TICKETS. WINNER WILL BE DRAWN RAND
 OMLY AND ANNOUNCED 2 DAYS PRIOR TO EVENT. \n\n\n FRIDAY, DEC 30\nGold
 envoice & Snow Globe present\nSnow Sessions\nFeaturing: Andre Nickatin
 a, Rappin 4-Tay, Chali 2na, Yukmouth, A-Plus, Traxamillion, Deacon The
  Villain\nHosted by Del The Funky Homosapien plus very special guests 
 AMP Live, Domino, DJ Aspect\nThe Regency Ballroom San Francisco, CA - 
 8:00 PM Ages: All Ages\n>> BUY TICKETS\n\n\n\nFor more information vis
 it http://trueskool.com/events/andre-nickatina-rappin-4-tay-chali-2na-
 yukmouth-a-plus-traxamilli
DTSTART;TZID=America/Los_Angeles:20161230T200000
DTEND;TZID=America/Los_Angeles:20161230T230000
CATEGORIES:"bay area", "san francisco"
LOCATION:Regency Ballroom, San Francisco
WEBSITE:http://www.axs.com/events/328245/andre-nickatina-rappin-4-tay-
 chali-tickets?cid=reg_snowsessions_trueskool
URL:http://www.axs.com/events/328245/andre-nickatina-rappin-4-tay-chal
 i-tickets?cid=reg_snowsessions_trueskool
CONTACT:
ORGANIZER:Goldenvoice
ATTACH;FMTTYPE="image/jpeg":http://storage.ning.com/topology/rest/1.0/
 file/get/2247992760?profile=original
ATTENDEE;ROLE=REQ-PARTICIPANT;PARTSTAT=ACCEPTED;RSVP=TRUE;CN="Ondie A"
 :http://trueskool.com/profile/OndieA
ATTENDEE;ROLE=REQ-PARTICIPANT;PARTSTAT=ACCEPTED;RSVP=TRUE;CN="Editor's
  Pick":http://trueskool.com/profile/RentheVinylArchaeologist
END:VEVENT
END:VCALENDAR
