BEGIN:VCALENDAR
PRODID:NingEventWidget-v1
VERSION:2.0
METHOD:PUBLISH
BEGIN:VTIMEZONE
TZID:America/Los_Angeles
X-LIC-LOCATION:America/Los_Angeles
BEGIN:DAYLIGHT
TZOFFSETFROM:-0800
TZOFFSETTO:-0700
TZNAME:PDT
DTSTART:19700308T020000
RRULE:FREQ=YEARLY;BYMONTH=3;BYDAY=2SU
END:DAYLIGHT
BEGIN:STANDARD
TZOFFSETFROM:-0700
TZOFFSETTO:-0800
TZNAME:PST
DTSTART:19701101T020000
RRULE:FREQ=YEARLY;BYMONTH=11;BYDAY=1SU
END:STANDARD
END:VTIMEZONE
BEGIN:VEVENT
UID:1464587:Event:320820
DTSTAMP:20260421T021917Z
SUMMARY:An Evening of Music, Comedy, and Wackiness with from the Sarah
  from the Sarah and Vinnie Show
DESCRIPTION:Free City Presents… An Evening of Music, Comedy, & Wacki
 ness with Sarah from the Sarah & Vinnie Show.  This Evening of Music, 
 Comedy, and Wackiness, will be starring the one-and-only SARAH’S BAN
 D.  This Evening of Music, Comedy, and Wackiness will feature BEATPORT
  CHART TOPPING DJ-  DJ Bryn Live in the Mix, spinning his latest chart
  topping singles.  This event will be Hosted by the Legendary Emcee Ho
 oman!  Oh and this event will also include a Super Secret Special-Gues
 t Comedic Performance, to ensure that this Evening is filled with noth
 ing but Shenanigans.  ATTENTION: THE RUMORS ARE ALL TRUE. SARAH’S BA
 ND aka MIXTAPE will be back in town on APRIL 4TH, 2014, and doing it b
 igger and better than EVER!\n http://www.eventbrite.com/e/an-evening-o
 f-music-and-wackiness-with-sarah-from-the-sarah-vinnie-show-tickets-10
 653405623\n Georges Nightclub San Rafael, CA  http://GeorgesNightclub.
 com http://freecity.co\n\nFor more information visit http://trueskool.
 com/events/an-evening-of-music-comedy-and-wackiness-with-from-the-sara
 h-from
DTSTART;TZID=America/Los_Angeles:20140404T200000
DTEND;TZID=America/Los_Angeles:20140405T013000
CATEGORIES:san, rafael, ca
LOCATION:Georges Nightclub, San Rafael, CA
WEBSITE:http://www.eventbrite.com/e/an-evening-of-music-and-wackiness-
 with-sarah-from-the-sarah-vinnie-show-tickets-10653405623
URL:http://www.eventbrite.com/e/an-evening-of-music-and-wackiness-with
 -sarah-from-the-sarah-vinnie-show-tickets-10653405623
CONTACT:14152268435
ORGANIZER:Freecity
ATTACH;FMTTYPE="image/jpeg":http://storage.ning.com/topology/rest/1.0/
 file/get/2247959017?profile=original
ATTENDEE;ROLE=REQ-PARTICIPANT;PARTSTAT=ACCEPTED;RSVP=TRUE;CN="Ruth A":
 http://trueskool.com/profile/RuthA
END:VEVENT
END:VCALENDAR
