BEGIN:VCALENDAR
PRODID:NingEventWidget-v1
VERSION:2.0
METHOD:PUBLISH
BEGIN:VTIMEZONE
TZID:America/Los_Angeles
X-LIC-LOCATION:America/Los_Angeles
BEGIN:DAYLIGHT
TZOFFSETFROM:-0800
TZOFFSETTO:-0700
TZNAME:PDT
DTSTART:19700308T020000
RRULE:FREQ=YEARLY;BYMONTH=3;BYDAY=2SU
END:DAYLIGHT
BEGIN:STANDARD
TZOFFSETFROM:-0700
TZOFFSETTO:-0800
TZNAME:PST
DTSTART:19701101T020000
RRULE:FREQ=YEARLY;BYMONTH=11;BYDAY=1SU
END:STANDARD
END:VTIMEZONE
BEGIN:VEVENT
UID:1464587:Event:411912
DTSTAMP:20260420T085519Z
SUMMARY:Amoeba Music's Rotation Series Presents DJ Spark
DESCRIPTION:Amoeba Music's Rotation Series presents DJ Spark and givea
 ways by Puma @ Amoeba Music Sunset Boulevard August 29th from 8-930PM.
  See you there!\n\nFor more information visit http://trueskool.com/eve
 nts/ameoba-music-rotation-series-presents-dj-spark
DTSTART;TZID=America/Los_Angeles:20140829T200000
DTEND;TZID=America/Los_Angeles:20140829T213000
CATEGORIES:amoeba, music, sunset, boulevard
LOCATION:Amoeba Music
WEBSITE:http://www.amoeba.com/live-shows/upcoming/detail-3042/
URL:http://www.amoeba.com/live-shows/upcoming/detail-3042/
CONTACT:
ORGANIZER;CN="Leah James":http://trueskool.com/profile/LeahJames
ATTACH;FMTTYPE="image/jpeg":http://storage.ning.com/topology/rest/1.0/
 file/get/2247966102?profile=original
ATTENDEE;ROLE=REQ-PARTICIPANT;PARTSTAT=ACCEPTED;RSVP=TRUE;CN="Leah Jam
 es":http://trueskool.com/profile/LeahJames
END:VEVENT
END:VCALENDAR
