BEGIN:VCALENDAR
PRODID:NingEventWidget-v1
VERSION:2.0
METHOD:PUBLISH
BEGIN:VTIMEZONE
TZID:America/Los_Angeles
X-LIC-LOCATION:America/Los_Angeles
BEGIN:DAYLIGHT
TZOFFSETFROM:-0800
TZOFFSETTO:-0700
TZNAME:PDT
DTSTART:19700308T020000
RRULE:FREQ=YEARLY;BYMONTH=3;BYDAY=2SU
END:DAYLIGHT
BEGIN:STANDARD
TZOFFSETFROM:-0700
TZOFFSETTO:-0800
TZNAME:PST
DTSTART:19701101T020000
RRULE:FREQ=YEARLY;BYMONTH=11;BYDAY=1SU
END:STANDARD
END:VTIMEZONE
BEGIN:VEVENT
UID:1464587:Event:824569
DTSTAMP:20260424T013226Z
SUMMARY:Ali Wong: Live
DESCRIPTION:Ali Wong: Live\r\nSat • Dec 16 • 7:00 PM\r\nSun • De
 c 17 • 7:00 PM\r\nMon • Dec 18 • 7:00 PM\r\nTue • Dec 19 • 7
 :00 PM\r\nWed • Dec 20 • 7:00 PM\r\nThe Masonic 1111 California St
 , San Francisco, CA 94108\n\nFor more information visit http://truesko
 ol.com/events/ali-wong-live
DTSTART;TZID=America/Los_Angeles:20231216T190000
DTEND;TZID=America/Los_Angeles:20231220T233000
CATEGORIES:"bay area", oakland, "san francisco", "san jose", berkeley
LOCATION:The Masonic, SF
WEBSITE:https://concerts.livenation.com/ali-wong-live-san-francisco-ca
 lifornia-12-16-2023/event/1C005EAABE2C6082?_gl=1*ulur59*_gcl_au*MTMyMD
 c1NjcxMC4xNjk4MDc0NjI3*_ga*MTE0NDQwNzYzMy4xNjk4MDc0NjMx*_ga_H1KKSGW33X
 *MTY5OTUzNDQyOS40LjEuMTY5OTUzNDQ1Mi4wLjAuMA..*_ga_72VVKN21YG*MTY5OTUzN
 DQzOS40LjEuMTY5OTUzNDQ1Mi4wLjAuMA..&amp;_ga=2.54822315.1244050140.1699
 467806-1144407633.1698074631
URL:https://concerts.livenation.com/ali-wong-live-san-francisco-califo
 rnia-12-16-2023/event/1C005EAABE2C6082?_gl=1*ulur59*_gcl_au*MTMyMDc1Nj
 cxMC4xNjk4MDc0NjI3*_ga*MTE0NDQwNzYzMy4xNjk4MDc0NjMx*_ga_H1KKSGW33X*MTY
 5OTUzNDQyOS40LjEuMTY5OTUzNDQ1Mi4wLjAuMA..*_ga_72VVKN21YG*MTY5OTUzNDQzO
 S40LjEuMTY5OTUzNDQ1Mi4wLjAuMA..&amp;_ga=2.54822315.1244050140.16994678
 06-1144407633.1698074631
CONTACT:
ORGANIZER;CN="Editor's Pick":http://trueskool.com/profile/RentheVinylA
 rchaeologist
ATTACH;FMTTYPE="image/jpeg":https://storage.ning.com/topology/rest/1.0
 /file/get/12289100659?profile=original
ATTENDEE;ROLE=REQ-PARTICIPANT;PARTSTAT=ACCEPTED;RSVP=TRUE;CN="Editor's
  Pick":http://trueskool.com/profile/RentheVinylArchaeologist
END:VEVENT
END:VCALENDAR
