BEGIN:VCALENDAR
PRODID:NingEventWidget-v1
VERSION:2.0
METHOD:PUBLISH
BEGIN:VTIMEZONE
TZID:America/Los_Angeles
X-LIC-LOCATION:America/Los_Angeles
BEGIN:DAYLIGHT
TZOFFSETFROM:-0800
TZOFFSETTO:-0700
TZNAME:PDT
DTSTART:19700308T020000
RRULE:FREQ=YEARLY;BYMONTH=3;BYDAY=2SU
END:DAYLIGHT
BEGIN:STANDARD
TZOFFSETFROM:-0700
TZOFFSETTO:-0800
TZNAME:PST
DTSTART:19701101T020000
RRULE:FREQ=YEARLY;BYMONTH=11;BYDAY=1SU
END:STANDARD
END:VTIMEZONE
BEGIN:VEVENT
UID:1464587:Event:824339
DTSTAMP:20260424T014719Z
SUMMARY:Ali Wong: Live
DESCRIPTION:Ali Wong: Live\r\nFri • Dec 22 • 7:00 PM\r\nSat • De
 c 23 • 8:00 PM\r\nThe Masonic  1111 California St, San Francisco, C
 A 94108\n\nFor more information visit http://trueskool.com/events/ali-
 wong-live-1
DTSTART;TZID=America/Los_Angeles:20231222T190000
DTEND;TZID=America/Los_Angeles:20231222T230000
CATEGORIES:"bay area", oakland, "san francisco", "san jose", berkeley
LOCATION:The Masonic
WEBSITE:https://www.livenation.com/artist/K8vZ917uNOf/ali-wong-events
URL:https://www.livenation.com/artist/K8vZ917uNOf/ali-wong-events
CONTACT:
ORGANIZER;CN="Editor's Pick":http://trueskool.com/profile/RentheVinylA
 rchaeologist
ATTACH;FMTTYPE="image/jpeg":https://storage.ning.com/topology/rest/1.0
 /file/get/12289101671?profile=original
ATTENDEE;ROLE=REQ-PARTICIPANT;PARTSTAT=ACCEPTED;RSVP=TRUE;CN="Editor's
  Pick":http://trueskool.com/profile/RentheVinylArchaeologist
END:VEVENT
END:VCALENDAR
