BEGIN:VCALENDAR
PRODID:NingEventWidget-v1
VERSION:2.0
METHOD:PUBLISH
BEGIN:VTIMEZONE
TZID:America/Los_Angeles
X-LIC-LOCATION:America/Los_Angeles
BEGIN:DAYLIGHT
TZOFFSETFROM:-0800
TZOFFSETTO:-0700
TZNAME:PDT
DTSTART:19700308T020000
RRULE:FREQ=YEARLY;BYMONTH=3;BYDAY=2SU
END:DAYLIGHT
BEGIN:STANDARD
TZOFFSETFROM:-0700
TZOFFSETTO:-0800
TZNAME:PST
DTSTART:19701101T020000
RRULE:FREQ=YEARLY;BYMONTH=11;BYDAY=1SU
END:STANDARD
END:VTIMEZONE
BEGIN:VEVENT
UID:1464587:Event:332406
DTSTAMP:20260421T035208Z
SUMMARY:alchemetric x changeUP ent * POP UP SHOP * collaboration
DESCRIPTION:Alchemetric x ChangeUp Ent. Pop-Up Shop Collaboration   Da
 te: Saturday, April 5th 2014 Location: Gold & Gifted Boutique & Barber
 shop | 3268 Adeline St., Berkeley, CA  http://vimeo.com/m/86393434  Ev
 ent Time: 2pm - 8pm DJ: 2pm - 8pm Open Mic (Prior sign up): 3pm - 4pm 
 Performance Time: 5pm - 7pm Hosts: bE! & Champlu Artists Line-up: HBK 
 CJ, bE!, Champlu, The Genres, Indecent The Slapmaster  bE! (ChangeUp E
 ntertainment) Http://twitter.com/justbE_CUE Http://soundcloud.com/Chan
 geUpEntertainment Http://youtube.com/ChangeUpEnt  Champlu (ChangeUp En
 tertainment) Http://twitter.com/Champlu_CUE Http://soundcloud.com/Chan
 geUpEntertainment Http://youtube.com/ChangeUpEnt  Http://ChangeUpEnt.c
 om/  The Genres Http://youtube.com/howyoufeeltv  Indecent The Slapmast
 er Http://Slapmaster.net/ \n\nFor more information visit http://truesk
 ool.com/events/alchemetric-x-changeup-ent-pop-up-shop-collaboration
DTSTART;TZID=America/Los_Angeles:20140405T140000
DTEND;TZID=America/Los_Angeles:20140405T200000
CATEGORIES:alchemetric, "changeup ent", "pop up shop", "hbk cj", "be!"
 , champlu, "the genres", "indecent the slapmaster", "hip hop", "street
 wear fashion", "sacred geometry", "gold & gifted", berkeley
LOCATION:Gold & Gifted
WEBSITE:http://www.goldandgifted.com
URL:http://www.goldandgifted.com
CONTACT:
ORGANIZER;CN=Alchemetric:http://trueskool.com/profile/Alchemetric
ATTACH;FMTTYPE="image/jpeg":http://storage.ning.com/topology/rest/1.0/
 file/get/2247961886?profile=original
ATTENDEE;ROLE=REQ-PARTICIPANT;PARTSTAT=ACCEPTED;RSVP=TRUE;CN=Alchemetr
 ic:http://trueskool.com/profile/Alchemetric
END:VEVENT
END:VCALENDAR
