BEGIN:VCALENDAR
PRODID:NingEventWidget-v1
VERSION:2.0
METHOD:PUBLISH
BEGIN:VTIMEZONE
TZID:America/Los_Angeles
X-LIC-LOCATION:America/Los_Angeles
BEGIN:DAYLIGHT
TZOFFSETFROM:-0800
TZOFFSETTO:-0700
TZNAME:PDT
DTSTART:19700308T020000
RRULE:FREQ=YEARLY;BYMONTH=3;BYDAY=2SU
END:DAYLIGHT
BEGIN:STANDARD
TZOFFSETFROM:-0700
TZOFFSETTO:-0800
TZNAME:PST
DTSTART:19701101T020000
RRULE:FREQ=YEARLY;BYMONTH=11;BYDAY=1SU
END:STANDARD
END:VTIMEZONE
BEGIN:VEVENT
UID:1464587:Event:56477
DTSTAMP:20260421T231652Z
SUMMARY:Alborosie & the Shengen Clan with Pressure & the 7th Street Ba
 nd
DESCRIPTION:Reggae On The Bay Presents\nALBOROSIE LIVE AT THE CRANEWAY
  PAVILION\nAlso Featuring: PRESSURE, XSample & DJ Jacques\n\nSaturday,
  May 29th 2010\n9pm-2am\n$23 presale / $30 at the door\nAll Ages\n\nFo
 r one night only, presenting ALBOROSIE, one of Reggae’s rising stars
 . Back to the US, by popular demand, to perform his smash hits “Rast
 afari Anthem”, “Kingston Town” and “Call Up Jah”, also featu
 ring PRESSURE.\n\nAlborosie is one of the first featured artists to pe
 rform, in an ongoing Reggae series, at the stunning bay front Craneway
  Pavilion. Located in historic Pt. Richmond, within minutes from Berke
 ley and Marin, and only 20 minutes from San Francisco, The Craneway is
  the Bay Area’s hottest, new green event venue. Come enjoy music and
  food at the new heart of the Bay Area music scene.\n\nTickets availab
 le NOW on-line @ www.inticketing.com/events/99178\nThe Craneway Pavili
 on\n1414 Harbour Way South\nPt. Richmond, CA 94804\n510.234.2450\nwww.
 reggaeonthebay.net\n\nFor more information visit http://trueskool.com/
 events/alborosie-the-shengen-clan
DTSTART;TZID=America/Los_Angeles:20100529T200000
DTEND;TZID=America/Los_Angeles:20100530T020000
CATEGORIES:reggae, concert
LOCATION:Craneway Pavilion, Richmond, CA 94804
WEBSITE:http://reggaeonthebay.net
URL:http://reggaeonthebay.net
CONTACT:510-234-2450
ORGANIZER;CN="Richard Lukens":http://trueskool.com/profile/RichardLuke
 ns
ATTACH;FMTTYPE="image/jpeg":http://storage.ning.com/topology/rest/1.0/
 file/get/2164565767?profile=original
ATTENDEE;ROLE=REQ-PARTICIPANT;PARTSTAT=ACCEPTED;RSVP=TRUE;CN="Richard 
 Lukens":http://trueskool.com/profile/RichardLukens
END:VEVENT
END:VCALENDAR
