BEGIN:VCALENDAR
PRODID:NingEventWidget-v1
VERSION:2.0
METHOD:PUBLISH
BEGIN:VTIMEZONE
TZID:America/Los_Angeles
X-LIC-LOCATION:America/Los_Angeles
BEGIN:DAYLIGHT
TZOFFSETFROM:-0800
TZOFFSETTO:-0700
TZNAME:PDT
DTSTART:19700308T020000
RRULE:FREQ=YEARLY;BYMONTH=3;BYDAY=2SU
END:DAYLIGHT
BEGIN:STANDARD
TZOFFSETFROM:-0700
TZOFFSETTO:-0800
TZNAME:PST
DTSTART:19701101T020000
RRULE:FREQ=YEARLY;BYMONTH=11;BYDAY=1SU
END:STANDARD
END:VTIMEZONE
BEGIN:VEVENT
UID:1464587:Event:57377
DTSTAMP:20260421T213115Z
SUMMARY:ALBOROSIE - LIVE AT THE CRANEWAY PAVILION
DESCRIPTION:\nSaturday, May 29th, 2010\nReggae on the Bay Presents\nAL
 BOROSIE\nLIVE AT THE CRANEWAY PAVILION\n\nFEATURING ALBOROSIE LIVE w/ 
 THE SHENGEN CLAN:\nAND PRESSURE w/ THE 7TH STREET BAND;\n\nPERFORMING 
 REGGAE AT - THE CRANEWAY PAVILION – THE HOTTEST NEW GREEN EVENT VENU
 E IN THE BAY AREA\n\n@ Craneway Pavilion, 1414 Harbour Way South, Pt. 
 Richmond, CA 94804\nAll Ages - $23 presale / $30 at the door – Doors
  Open: 8pm - Show: 9pm-2am\nTickets available NOW on-line @\nhttp://ww
 w.inticketing.com\n\nBack by popular demand, Alborosie is returning fo
 r his second appearance in the US. Originally from Sicily, this dynami
 c performer started his career at the young age of 14. By the age of 1
 7 he had formed the band “Reggae National Tickets” and signed with
  a number of big labels, including BMG Records. Over the next 10 years
  Alborosie produced 8 albums and became a superstar in Italy. In 2001 
 he moved to Kingston, Jamaica in order to reach a larger audience. Thi
 s greatly influenced his style and has led to collaborations with some
  of the biggest names in Jamaican music, including Ky-Mani Marley, Jah
  Cure, Luciano and Morgan Heritage. He has been given the stamp of app
 roval by Reggae Legends Sly and Robbie and Freddie McGregor to name a 
 few.\n\nAlso performing will be Pressure, a native of St. Thomas and a
 n original member of the Star Lion Family. With a foundation strongly 
 rooted in the livity of Rastafari, Pressure comes forward with a full 
 spectrum of vocals. He sings poignant, conscious lyrics that touch the
  soul, demonstrating to the world that, without a doubt, the pressure 
 is on in these times. Opening acts will be XSample and DJ Jacques.\n\n
 Alborosie will be appearing at the historic Craneway Pavilion situated
  in the heart of the East Bay, right on the bay front of Point Richmon
 d. The 45,000 sq ft Pavilion features a soaring, industrial-chic inter
 ior, sweeping waterfront views and state of the art infrastructure. It
  is the largest and finest new, green event venue in the Bay Area and 
 includes the 80-seat Boilerhouse restaurant featuring “slow-food” 
 American Cuisine. Produced by United Earth Networks and Reggae on the 
 Bay, Alborosie, is one of the first featured artists in an ongoing ser
 ies at this stunning, world class venue. Within minutes from Berkeley 
 and Marin, and only 20 minutes from San Francisco, this venue is a saf
 e and secure event center featuring over 1,200 parking spaces. Come en
 joy music and food at the new heart of the Bay Area music scene.\n\nTi
 ckets available NOW on-line @\nhttp://www.inticketing.com\n\nIf you’
 d like more information about the show, or to schedule an interview wi
 th Rick Lukens, please contact United Earth Networks at 510.234.2450 o
 r e-mail Satya Davidson at satya@unitedearth.net\n\nhttp://www.reggaeo
 nthebay.net\n\n\n\nFor more information visit http://trueskool.com/eve
 nts/alborosie-live-at-the
DTSTART;TZID=America/Los_Angeles:20100529T210000
DTEND;TZID=America/Los_Angeles:20100530T020000
CATEGORIES:reggae, dancehall
LOCATION:Craneway Pavilion, Pt. Richmond, CA
WEBSITE:http://www.inticketing.com
URL:http://www.inticketing.com
CONTACT:
ORGANIZER:Reggae on the Bay
ATTACH;FMTTYPE="image/jpeg":http://storage.ning.com/topology/rest/1.0/
 file/get/2164565767?profile=original
ATTENDEE;ROLE=REQ-PARTICIPANT;PARTSTAT=ACCEPTED;RSVP=TRUE;CN="Ren the 
 Vinyl Archaeologist":http://trueskool.com/profile/xh51jvilojur
END:VEVENT
END:VCALENDAR
