BEGIN:VCALENDAR
PRODID:NingEventWidget-v1
VERSION:2.0
METHOD:PUBLISH
BEGIN:VTIMEZONE
TZID:America/Los_Angeles
X-LIC-LOCATION:America/Los_Angeles
BEGIN:DAYLIGHT
TZOFFSETFROM:-0800
TZOFFSETTO:-0700
TZNAME:PDT
DTSTART:19700308T020000
RRULE:FREQ=YEARLY;BYMONTH=3;BYDAY=2SU
END:DAYLIGHT
BEGIN:STANDARD
TZOFFSETFROM:-0700
TZOFFSETTO:-0800
TZNAME:PST
DTSTART:19701101T020000
RRULE:FREQ=YEARLY;BYMONTH=11;BYDAY=1SU
END:STANDARD
END:VTIMEZONE
BEGIN:VEVENT
UID:1464587:Event:661618
DTSTAMP:20260421T154912Z
SUMMARY:AFROLICIOUS
DESCRIPTION:AFROLICIOUS\nLIOR BEN-HUR & SOL TEVÉL\nWill Magid\nThe In
 dependentSan Francisco, CAFriday, May 26, 2017Show: 9:00pm\n$15.00 –
  General Admission (Advance)\n$17.00 – General Admission (Door)\n\nF
 or more information visit http://trueskool.com/events/afrolicious
DTSTART;TZID=America/Los_Angeles:20170526T210000
DTEND;TZID=America/Los_Angeles:20170526T230000
CATEGORIES:"san francisco", oakland, berkley, "san jose", "bay area"
LOCATION:The Independent, SF
WEBSITE:https://www.ticketfly.com/purchase/event/1456736?camefrom=CFC_
 ANOTHERPLANET_web&brand=anotherplanet&q=ae6adbed-fa6c-41a0-8bc3-6ea2c6
 1b0fb4&p=82c9a219-909a-48e9-9977-b09a0a980588&ts=1492616363&c=ticketfl
 y&e=0010c&rt=Safetynet&h=310c5386eafbf321376c462847bd551d
URL:https://www.ticketfly.com/purchase/event/1456736?camefrom=CFC_ANOT
 HERPLANET_web&brand=anotherplanet&q=ae6adbed-fa6c-41a0-8bc3-6ea2c61b0f
 b4&p=82c9a219-909a-48e9-9977-b09a0a980588&ts=1492616363&c=ticketfly&e=
 0010c&rt=Safetynet&h=310c5386eafbf321376c462847bd551d
CONTACT:
ORGANIZER;CN="Editor's Pick":http://trueskool.com/profile/RentheVinylA
 rchaeologist
ATTACH;FMTTYPE="image/jpeg":http://storage.ning.com/topology/rest/1.0/
 file/get/2247996871?profile=original
ATTENDEE;ROLE=REQ-PARTICIPANT;PARTSTAT=ACCEPTED;RSVP=TRUE;CN="Editor's
  Pick":http://trueskool.com/profile/RentheVinylArchaeologist
END:VEVENT
END:VCALENDAR
