BEGIN:VCALENDAR
PRODID:NingEventWidget-v1
VERSION:2.0
METHOD:PUBLISH
BEGIN:VTIMEZONE
TZID:America/Los_Angeles
X-LIC-LOCATION:America/Los_Angeles
BEGIN:DAYLIGHT
TZOFFSETFROM:-0800
TZOFFSETTO:-0700
TZNAME:PDT
DTSTART:19700308T020000
RRULE:FREQ=YEARLY;BYMONTH=3;BYDAY=2SU
END:DAYLIGHT
BEGIN:STANDARD
TZOFFSETFROM:-0700
TZOFFSETTO:-0800
TZNAME:PST
DTSTART:19701101T020000
RRULE:FREQ=YEARLY;BYMONTH=11;BYDAY=1SU
END:STANDARD
END:VTIMEZONE
BEGIN:VEVENT
UID:1464587:Event:551703
DTSTAMP:20260420T183131Z
SUMMARY:Aesop Rock (New Orleans)
DESCRIPTION:\nDate\nLocation\nEvent Details\nFind Tickets\n\n\nMAR  
 \n11\nWED\n\nHouse of Blues New OrleansNew Orleans, LA07:00 PM\n\nAes
 op Rock w/Rob Sonic & DJ AbilitiesDetails: Aesop Rock, Rob Sonic, DJ
  Abilities\nSee Ticketson Live Nation\n\n\n\n\n\nFor more information 
 visit http://trueskool.com/events/aesop-rock-new-orleans
DTSTART;TZID=America/Los_Angeles:20150311T190000
DTEND;TZID=America/Los_Angeles:20150311T200000
CATEGORIES:new, orleans, louisiana, la
LOCATION:House of Blues, New Orleans
WEBSITE:http://www.ticketmaster.com/partner_redirect?v=OfzQYUncv8ojUcW
 85FepKbEQTJMs7t3hhBWQo7FkMf64UKYsH3qbDazYz7VvFzi6z1-t95WKR3Hfrp1UW6gaU
 sPhcFOwpoEpfNjLE0KYOzQdM5V_BkDytQub7PPxvP8Tp6b4HQ&eventid=1B004D689FF7
 1E24&artistid=705856&artistname=Aesop%20Rock%20w/Rob%20Sonic%20&%20DJ%
 20Abilities&crosssite=TM_US:705856:221834&tm_link=artist_msg-0_1B004D6
 89FF71E24
URL:http://www.ticketmaster.com/partner_redirect?v=OfzQYUncv8ojUcW85Fe
 pKbEQTJMs7t3hhBWQo7FkMf64UKYsH3qbDazYz7VvFzi6z1-t95WKR3Hfrp1UW6gaUsPhc
 FOwpoEpfNjLE0KYOzQdM5V_BkDytQub7PPxvP8Tp6b4HQ&eventid=1B004D689FF71E24
 &artistid=705856&artistname=Aesop%20Rock%20w/Rob%20Sonic%20&%20DJ%20Ab
 ilities&crosssite=TM_US:705856:221834&tm_link=artist_msg-0_1B004D689FF
 71E24
CONTACT:
ORGANIZER;CN="Editor's Pick":http://trueskool.com/profile/RentheVinylA
 rchaeologist
ATTACH;FMTTYPE="image/jpeg":http://storage.ning.com/topology/rest/1.0/
 file/get/2247916827?profile=original
ATTENDEE;ROLE=REQ-PARTICIPANT;PARTSTAT=ACCEPTED;RSVP=TRUE;CN="Editor's
  Pick":http://trueskool.com/profile/RentheVinylArchaeologist
END:VEVENT
END:VCALENDAR
