BEGIN:VCALENDAR
PRODID:NingEventWidget-v1
VERSION:2.0
METHOD:PUBLISH
BEGIN:VTIMEZONE
TZID:America/Los_Angeles
X-LIC-LOCATION:America/Los_Angeles
BEGIN:DAYLIGHT
TZOFFSETFROM:-0800
TZOFFSETTO:-0700
TZNAME:PDT
DTSTART:19700308T020000
RRULE:FREQ=YEARLY;BYMONTH=3;BYDAY=2SU
END:DAYLIGHT
BEGIN:STANDARD
TZOFFSETFROM:-0700
TZOFFSETTO:-0800
TZNAME:PST
DTSTART:19701101T020000
RRULE:FREQ=YEARLY;BYMONTH=11;BYDAY=1SU
END:STANDARD
END:VTIMEZONE
BEGIN:VEVENT
UID:1464587:Event:551503
DTSTAMP:20260420T214407Z
SUMMARY:Aesop Rock (Miami)
DESCRIPTION:\nDate\nLocation\nEvent Details\nFind Tickets\n\n\nMAR  
 \n6\nFRI\n\nRevolution LiveFt Lauderdale, FL07:30 PM\n\nAesop RockDet
 ails: Aesop Rock, Rob Sonic\nSee Tickets\n\n\n\n\nFor more informatio
 n visit http://trueskool.com/events/aesop-rock-miami
DTSTART;TZID=America/Los_Angeles:20150306T193000
DTEND;TZID=America/Los_Angeles:20150306T230000
CATEGORIES:miami, florida, fla, mia
LOCATION:Revolution Live, Miami
WEBSITE:http://www.ticketmaster.com/aesop-rock-ft-lauderdale-florida-0
 3-06-2015/event/0D004D6AD3E59D95?artistid=705856&majorcatid=10001&mino
 rcatid=3&tm_link=artist_msg-0_0D004D6AD3E59D95
URL:http://www.ticketmaster.com/aesop-rock-ft-lauderdale-florida-03-06
 -2015/event/0D004D6AD3E59D95?artistid=705856&majorcatid=10001&minorcat
 id=3&tm_link=artist_msg-0_0D004D6AD3E59D95
CONTACT:
ORGANIZER;CN="Editor's Pick":http://trueskool.com/profile/RentheVinylA
 rchaeologist
ATTACH;FMTTYPE="image/jpeg":http://storage.ning.com/topology/rest/1.0/
 file/get/2247916827?profile=original
ATTENDEE;ROLE=REQ-PARTICIPANT;PARTSTAT=ACCEPTED;RSVP=TRUE;CN="Editor's
  Pick":http://trueskool.com/profile/RentheVinylArchaeologist
END:VEVENT
END:VCALENDAR
