BEGIN:VCALENDAR
PRODID:NingEventWidget-v1
VERSION:2.0
METHOD:PUBLISH
BEGIN:VTIMEZONE
TZID:America/Los_Angeles
X-LIC-LOCATION:America/Los_Angeles
BEGIN:DAYLIGHT
TZOFFSETFROM:-0800
TZOFFSETTO:-0700
TZNAME:PDT
DTSTART:19700308T020000
RRULE:FREQ=YEARLY;BYMONTH=3;BYDAY=2SU
END:DAYLIGHT
BEGIN:STANDARD
TZOFFSETFROM:-0700
TZOFFSETTO:-0800
TZNAME:PST
DTSTART:19701101T020000
RRULE:FREQ=YEARLY;BYMONTH=11;BYDAY=1SU
END:STANDARD
END:VTIMEZONE
BEGIN:VEVENT
UID:1464587:Event:615004
DTSTAMP:20260420T235401Z
SUMMARY:Action Bronson, Earl Sweatshirt with Remy Banks, DJ Alchemist 
 (WIN TICKETS)
DESCRIPTION:ENTER TO WIN A PAIR OF TICKETS. WINNER WILL BE DRAWN RANDO
 MLY AND ANNOUNCED 2 DAYS PRIOR TO EVENT. 2 PAIRS AVAILABLE \n\n TUES
 DAY, APR 7 Action Bronson, Earl Sweatshirt with Remy Banks, DJ Alchemi
 st\n\nThe Warfield\n982 Market Street\nSan Francisco, CA 94102\n(415) 
 345-0900\nAges: All Ages\nDoors Open: 6:00PM\nPrice: $30.00 - $40.0
 0\nDoor Price: $35.00\nOn Sale Friday 10am\n>> BUY TICKETS\n\n\nFor m
 ore information visit http://trueskool.com/events/action-bronson-earl-
 sweatshirt-with-remy-banks-dj-alchemist
DTSTART;TZID=America/Los_Angeles:20150407T180000
DTEND;TZID=America/Los_Angeles:20150407T230000
CATEGORIES:"bay area", "san francisco"
LOCATION:The Warfield, San Francisco
WEBSITE:http://www.axs.com/events/272843/action-bronson-earl-sweatshir
 t-tickets?CID=WAR_Bronson_TruSkool
URL:http://www.axs.com/events/272843/action-bronson-earl-sweatshirt-ti
 ckets?CID=WAR_Bronson_TruSkool
CONTACT:
ORGANIZER:Goldenvoice
ATTACH;FMTTYPE="image/jpeg":http://storage.ning.com/topology/rest/1.0/
 file/get/2247973980?profile=original
ATTENDEE;ROLE=REQ-PARTICIPANT;PARTSTAT=ACCEPTED;RSVP=TRUE;CN="Donte Ha
 rrison":http://trueskool.com/profile/DonteHarrison
ATTENDEE;ROLE=REQ-PARTICIPANT;PARTSTAT=ACCEPTED;RSVP=TRUE;CN="Tali Ben
 attar":http://trueskool.com/profile/TaliBenattar550
ATTENDEE;ROLE=REQ-PARTICIPANT;PARTSTAT=ACCEPTED;RSVP=TRUE;CN="Elisa Bj
 eldanes":http://trueskool.com/profile/ElisaBjeldanes
ATTENDEE;ROLE=REQ-PARTICIPANT;PARTSTAT=ACCEPTED;RSVP=TRUE;CN="Joseph K
 im":http://trueskool.com/profile/JosephKim
ATTENDEE;ROLE=REQ-PARTICIPANT;PARTSTAT=ACCEPTED;RSVP=TRUE;CN=Melissa:h
 ttp://trueskool.com/profile/Melissa
ATTENDEE;ROLE=REQ-PARTICIPANT;PARTSTAT=ACCEPTED;RSVP=TRUE;CN="James Mi
 chael Federighi":http://trueskool.com/profile/JamesMichaelFederighi
ATTENDEE;ROLE=REQ-PARTICIPANT;PARTSTAT=ACCEPTED;RSVP=TRUE;CN="Editor's
  Pick":http://trueskool.com/profile/RentheVinylArchaeologist
END:VEVENT
END:VCALENDAR
