BEGIN:VCALENDAR
PRODID:NingEventWidget-v1
VERSION:2.0
METHOD:PUBLISH
BEGIN:VTIMEZONE
TZID:America/Los_Angeles
X-LIC-LOCATION:America/Los_Angeles
BEGIN:DAYLIGHT
TZOFFSETFROM:-0800
TZOFFSETTO:-0700
TZNAME:PDT
DTSTART:19700308T020000
RRULE:FREQ=YEARLY;BYMONTH=3;BYDAY=2SU
END:DAYLIGHT
BEGIN:STANDARD
TZOFFSETFROM:-0700
TZOFFSETTO:-0800
TZNAME:PST
DTSTART:19701101T020000
RRULE:FREQ=YEARLY;BYMONTH=11;BYDAY=1SU
END:STANDARD
END:VTIMEZONE
BEGIN:VEVENT
UID:1464587:Event:461577
DTSTAMP:20260421T002017Z
SUMMARY:ACABAR SESSIONS w/ MATHIEU SCHREYER (KCRW) + DJ GHOST
DESCRIPTION:one of our favorite DJs in all of LA... rocking the late n
 ight airwaves of KCRW and many hot spots around town... MATHIEU'S tast
 e and selections are 2nd to none, also as evidenced in his music super
 vision of the fresh soundtrack to hit move 'CHEF'\n+ special opening s
 et by DJ GHOST a recent Parisian transplant and one to watch in the ne
 ar future as he has already made noise with the likes of DAM FUNK, JRO
 CC and MARK de CLIVE-LOWE... TRUST!\ndinner til midnight / 21+ w/ ID\n
 good music, finer people\nACABAR SESSIONS\nUPCOMING: SCOTT K 11/14 - H
 UMAN RESOURCES 11/21 - BENJAMIN BECK 11/22 - MASTER KEV & DAVID BULLOC
 K 11/28 - JUSTIN SLOE & LONELY BOY aka JOSHUA HEATH 11/29 - PLAN B 12/
 5 - MARK DE CLIVE-LOWE w/ HARVEY MASON & GARTH TRINIDAD 12/18 - ETHIO 
 CALI (live) 11/22 - RICH MEDINA 1/29\n\nFor more information visit htt
 p://trueskool.com/events/acabar-sessions-w-mathieu-schreyer-kcrw
DTSTART;TZID=America/Los_Angeles:20141113T220000
DTEND;TZID=America/Los_Angeles:20141114T020000
CATEGORIES:los, angeles, hollywood
LOCATION:Acabar, Los Angleles, CA
WEBSITE:https://www.facebook.com/events/1558574784373698
URL:https://www.facebook.com/events/1558574784373698
CONTACT:
ORGANIZER:Jonathan Rudnick / Eric Tucker / Acabar Sessions
ATTACH;FMTTYPE="image/jpeg":http://storage.ning.com/topology/rest/1.0/
 file/get/2247970730?profile=original
ATTENDEE;ROLE=REQ-PARTICIPANT;PARTSTAT=ACCEPTED;RSVP=TRUE;CN="Jonathan
  Rudnick":http://trueskool.com/profile/JonathanRudnick
END:VEVENT
END:VCALENDAR
