BEGIN:VCALENDAR
PRODID:NingEventWidget-v1
VERSION:2.0
METHOD:PUBLISH
BEGIN:VTIMEZONE
TZID:America/Los_Angeles
X-LIC-LOCATION:America/Los_Angeles
BEGIN:DAYLIGHT
TZOFFSETFROM:-0800
TZOFFSETTO:-0700
TZNAME:PDT
DTSTART:19700308T020000
RRULE:FREQ=YEARLY;BYMONTH=3;BYDAY=2SU
END:DAYLIGHT
BEGIN:STANDARD
TZOFFSETFROM:-0700
TZOFFSETTO:-0800
TZNAME:PST
DTSTART:19701101T020000
RRULE:FREQ=YEARLY;BYMONTH=11;BYDAY=1SU
END:STANDARD
END:VTIMEZONE
BEGIN:VEVENT
UID:1464587:Event:662584
DTSTAMP:20260421T190531Z
SUMMARY:Ab-Soul (WIN TICKETS)
DESCRIPTION: ENTER TO WIN A PAIR OF TICKETS. WINNER WILL BE DRAWN RAND
 OMLY AND ANNOUNCED 2 DAYS PRIOR TO EVENT.\n\n\n\nTuesday, May 23, 2017
 \nSean Healy Presents & Tastemaker Live Present Ab-Soul\nThe New Paris
 h, Oakland, CA \n18 years and over\n8:30 PM PDT (7:30 PM Doors)  >> BU
 Y TICKETS\n\n\n\n\nFor more information visit http://trueskool.com/eve
 nts/ab-soul-win-tickets
DTSTART;TZID=America/Los_Angeles:20170523T203000
DTEND;TZID=America/Los_Angeles:20170523T230000
CATEGORIES:"bay area", oakland
LOCATION:The New Parish, Oakland
WEBSITE:http://www.ticketweb.com/t3/sale/SaleEventDetail?eventId=72856
 35&pl=shealy&dispatch=loadSelectionData
URL:http://www.ticketweb.com/t3/sale/SaleEventDetail?eventId=7285635&p
 l=shealy&dispatch=loadSelectionData
CONTACT:
ORGANIZER:Tastemaker Live
ATTACH;FMTTYPE="image/jpeg":http://storage.ning.com/topology/rest/1.0/
 file/get/2247996646?profile=original
ATTENDEE;ROLE=REQ-PARTICIPANT;PARTSTAT=ACCEPTED;RSVP=TRUE;CN="Ren the 
 Vinyl Archaeologist":http://trueskool.com/profile/xh51jvilojur
END:VEVENT
END:VCALENDAR
