BEGIN:VCALENDAR
PRODID:NingEventWidget-v1
VERSION:2.0
METHOD:PUBLISH
BEGIN:VTIMEZONE
TZID:America/Los_Angeles
X-LIC-LOCATION:America/Los_Angeles
BEGIN:DAYLIGHT
TZOFFSETFROM:-0800
TZOFFSETTO:-0700
TZNAME:PDT
DTSTART:19700308T020000
RRULE:FREQ=YEARLY;BYMONTH=3;BYDAY=2SU
END:DAYLIGHT
BEGIN:STANDARD
TZOFFSETFROM:-0700
TZOFFSETTO:-0800
TZNAME:PST
DTSTART:19701101T020000
RRULE:FREQ=YEARLY;BYMONTH=11;BYDAY=1SU
END:STANDARD
END:VTIMEZONE
BEGIN:VEVENT
UID:1464587:Event:655217
DTSTAMP:20260421T180632Z
SUMMARY:A$AP Ferg
DESCRIPTION:ENTER TO WIN A PAIR OF TICKETS. WINNER WILL BE DRAWN RANDO
 MLY AND ANNOUNCED 2 DAYS PRIOR TO EVENT.  \n\nWEDNESDAY, NOV 9 Turnt
  and Burnt Tour Featuring A$AP Ferg with Playboi Carti, Rob $tone\nThe
  Regency Ballroom San Francisco, CA -  8:00 PM Ages: All Ages\n>> BUY 
 TICKETS\n\n\nFor more information visit http://trueskool.com/events/a-
 ap-ferg
DTSTART;TZID=America/Los_Angeles:20161109T200000
DTEND;TZID=America/Los_Angeles:20161109T230000
CATEGORIES:"bay area", "san francisco"
LOCATION:Regency Ballroom, San Francisco
WEBSITE:http://www.axs.com/events/314746/a-ap-ferg-tickets?cid=war_afe
 rg_trusk
URL:http://www.axs.com/events/314746/a-ap-ferg-tickets?cid=war_aferg_t
 rusk
CONTACT:
ORGANIZER:Goldenvoice
ATTACH;FMTTYPE="image/jpeg":http://storage.ning.com/topology/rest/1.0/
 file/get/2247992417?profile=original
ATTENDEE;ROLE=REQ-PARTICIPANT;PARTSTAT=ACCEPTED;RSVP=TRUE;CN="Editor's
  Pick":http://trueskool.com/profile/RentheVinylArchaeologist
END:VEVENT
END:VCALENDAR
