BEGIN:VCALENDAR
PRODID:NingEventWidget-v1
VERSION:2.0
METHOD:PUBLISH
BEGIN:VTIMEZONE
TZID:America/Los_Angeles
X-LIC-LOCATION:America/Los_Angeles
BEGIN:DAYLIGHT
TZOFFSETFROM:-0800
TZOFFSETTO:-0700
TZNAME:PDT
DTSTART:19700308T020000
RRULE:FREQ=YEARLY;BYMONTH=3;BYDAY=2SU
END:DAYLIGHT
BEGIN:STANDARD
TZOFFSETFROM:-0700
TZOFFSETTO:-0800
TZNAME:PST
DTSTART:19701101T020000
RRULE:FREQ=YEARLY;BYMONTH=11;BYDAY=1SU
END:STANDARD
END:VTIMEZONE
BEGIN:VEVENT
UID:1464587:Event:663540
DTSTAMP:20260420T201907Z
SUMMARY:60's Prom Night: A Motown Dance Party
DESCRIPTION:ENTER TO WIN A PAIR OF TICKETS. WINNER WILL BE DRAWN RANDO
 MLY AND ANNOUNCED 2 DAYS PRIOR TO EVENT.\n\nFRIDAY, JUNE 30 Join us fo
 r 60’s Prom Night: A Motown Dance Party!\n\nEnjoy a live 10-Piece ba
 nd playing all the Motown hits that made the 60's such a great decade 
 for music. \n\nCome dressed in your 1960’s best for a chance to win
  one of two grand prizes and the title of Prom King or Queen\n\n$5 Pre
 -Sale $10 @ the Door. \nDoors open at 9pm. 18+\nGet Pre-Sale's Here:\
 nhttp://bit.ly/2r75D0V\n\n\n \nAll profits + proceeds from silent auct
 ion will be donated to Black Lives Matter Bay Area! \n\nCheck out our
  last events:\nwww.brownsugarproductions.net\n\nFor more information v
 isit http://trueskool.com/events/60-s-prom-night-a-motown-dance-party
DTSTART;TZID=America/Los_Angeles:20170630T210000
DTEND;TZID=America/Los_Angeles:20170701T020000
CATEGORIES:brick, and, mortar, bay, area, san, francisco
LOCATION:Brick and Mortar Music Hall
WEBSITE:http://www.facebook.com/events/1903687913222423
URL:http://www.facebook.com/events/1903687913222423
CONTACT:4156861794
ORGANIZER;CN="Owen Clapp":http://trueskool.com/profile/OwenClapp
ATTACH;FMTTYPE="image/jpeg":http://storage.ning.com/topology/rest/1.0/
 file/get/2247998472?profile=original
ATTENDEE;ROLE=REQ-PARTICIPANT;PARTSTAT=ACCEPTED;RSVP=TRUE;CN="Owen Cla
 pp":http://trueskool.com/profile/OwenClapp
END:VEVENT
END:VCALENDAR
