BEGIN:VCALENDAR
PRODID:NingEventWidget-v1
VERSION:2.0
METHOD:PUBLISH
BEGIN:VTIMEZONE
TZID:America/Los_Angeles
X-LIC-LOCATION:America/Los_Angeles
BEGIN:DAYLIGHT
TZOFFSETFROM:-0800
TZOFFSETTO:-0700
TZNAME:PDT
DTSTART:19700308T020000
RRULE:FREQ=YEARLY;BYMONTH=3;BYDAY=2SU
END:DAYLIGHT
BEGIN:STANDARD
TZOFFSETFROM:-0700
TZOFFSETTO:-0800
TZNAME:PST
DTSTART:19701101T020000
RRULE:FREQ=YEARLY;BYMONTH=11;BYDAY=1SU
END:STANDARD
END:VTIMEZONE
BEGIN:VEVENT
UID:1464587:Event:56902
DTSTAMP:20260421T142616Z
SUMMARY:50 Cent
DESCRIPTION:CLICK HERE TO WIN A PAIR OF TICKETS:\nhttp://www.trueskool
 .com/group/wintickets\n\n\n\nThursday June 3rd\n50 Cent\n\nThe Warfiel
 d\n982 Market Street, San Francisco, CA\nPhone: (415) 345-0900\nDoors 
 @ 7pm\nShow @ 8pm\nAll Ages\nTickets: $47 - $67\n\n\n\nFor more inform
 ation visit http://trueskool.com/events/50-cent
DTSTART;TZID=America/Los_Angeles:20100603T200000
DTEND;TZID=America/Los_Angeles:20100604T020000
CATEGORIES:hip, hop
LOCATION:The Warfield, San Francisco, CA
WEBSITE:http://www.ticketmaster.com/event/1C00449BFAF4712D?brand=golde
 nvoice
URL:http://www.ticketmaster.com/event/1C00449BFAF4712D?brand=goldenvoi
 ce
CONTACT:(415) 345-0900
ORGANIZER;CN="Editor's Pick":http://trueskool.com/profile/RentheVinylA
 rchaeologist
ATTACH;FMTTYPE="image/jpeg":http://storage.ning.com/topology/rest/1.0/
 file/get/2247878884?profile=original
ATTENDEE;ROLE=REQ-PARTICIPANT;PARTSTAT=ACCEPTED;RSVP=TRUE;CN="Editor's
  Pick":http://trueskool.com/profile/RentheVinylArchaeologist
END:VEVENT
END:VCALENDAR
