BEGIN:VCALENDAR
PRODID:NingEventWidget-v1
VERSION:2.0
METHOD:PUBLISH
BEGIN:VTIMEZONE
TZID:America/Los_Angeles
X-LIC-LOCATION:America/Los_Angeles
BEGIN:DAYLIGHT
TZOFFSETFROM:-0800
TZOFFSETTO:-0700
TZNAME:PDT
DTSTART:19700308T020000
RRULE:FREQ=YEARLY;BYMONTH=3;BYDAY=2SU
END:DAYLIGHT
BEGIN:STANDARD
TZOFFSETFROM:-0700
TZOFFSETTO:-0800
TZNAME:PST
DTSTART:19701101T020000
RRULE:FREQ=YEARLY;BYMONTH=11;BYDAY=1SU
END:STANDARD
END:VTIMEZONE
BEGIN:VEVENT
UID:1464587:Event:649398
DTSTAMP:20260421T054059Z
SUMMARY:4th Saturdays w DJ Lady Char
DESCRIPTION:Every 4th Friday DJ Lady Char of Love Beat Productions wil
 l be providing the nights soundtrack at John Colins SF. She’ll be pl
 aying a very eclectic range of music to dance to (R&amp;B, Hip Hop,Top
 40, Old School, Reggae, Electro and House) along with special guest DJ
 s every month.\n21+ * 10pm - Close * Cover  * For reservations email 
 party@johncolins.com\n\nABOUT DJ LADY CHAR\nDJ Lady Char is music love
 r of all kinds. Her eclectic taste in music shows in her high energy a
 nd groove filled sets! Lady Char plays all over California with reside
 ncies at Spitfire Lounge San Rafael, Badlands Sacramento, Remys Night 
 Club Santa Rosa, Climax Modesto, Splash San Jose and Executive Suite L
 ong Beach.\n\nFor more information visit http://trueskool.com/events/4
 th-saturdays-w-dj-lady-char
DTSTART;TZID=America/Los_Angeles:20160527T220000
DTEND;TZID=America/Los_Angeles:20160528T020000
CATEGORIES:san, francisco, soma, financial, district
LOCATION:JohnColins, San Francisco, CA
WEBSITE:http://johncolins.com/event/4th-fridays-w-dj-lady-char/
URL:http://johncolins.com/event/4th-fridays-w-dj-lady-char/
CONTACT:
ORGANIZER;CN="John Colins":http://trueskool.com/profile/JohnColinsSF
ATTACH;FMTTYPE="image/jpeg":http://storage.ning.com/topology/rest/1.0/
 file/get/2247988303?profile=original
ATTENDEE;ROLE=REQ-PARTICIPANT;PARTSTAT=ACCEPTED;RSVP=TRUE;CN="John Col
 ins":http://trueskool.com/profile/JohnColinsSF
END:VEVENT
END:VCALENDAR
