BEGIN:VCALENDAR
PRODID:NingEventWidget-v1
VERSION:2.0
METHOD:PUBLISH
BEGIN:VTIMEZONE
TZID:America/Los_Angeles
X-LIC-LOCATION:America/Los_Angeles
BEGIN:DAYLIGHT
TZOFFSETFROM:-0800
TZOFFSETTO:-0700
TZNAME:PDT
DTSTART:19700308T020000
RRULE:FREQ=YEARLY;BYMONTH=3;BYDAY=2SU
END:DAYLIGHT
BEGIN:STANDARD
TZOFFSETFROM:-0700
TZOFFSETTO:-0800
TZNAME:PST
DTSTART:19701101T020000
RRULE:FREQ=YEARLY;BYMONTH=11;BYDAY=1SU
END:STANDARD
END:VTIMEZONE
BEGIN:VEVENT
UID:1464587:Event:366932
DTSTAMP:20260421T103213Z
SUMMARY:2RACKS RAP CONTEST Presented by Sellassie
DESCRIPTION:Contest Registration + Info:  415-484-5704  http://2rack
 scontestsf.bpt.me\n 2Racks Rap Contest announces the return to San Fra
 ncisco on July 9, 2014.   2Racks is a Nation-Wide Original Song Cont
 est started in 2010 by Sellassie and Inhouse Talent in San Francisco, 
 CA.   2Racks Rap Contest stops in more than 12 cities from coast to 
 coast including Los Angeles, New York, San Francisco, Berkeley, Chica
 go, DC, Atlanta, Austin, Houston, Orlando & Seattle.   2Racks looks
  forward to returning to the home of independent Hip Hop.\n \nThe 2Ra
 cks Rap Contest is a fast-paced song competition for upcoming Hip Hop 
 Artists to showcase original material, perform live and compete for a 
 $2000 Cash Prize.  The series is innovative, trendsetting, and authen
 tic and is consistently packing clubs for new music.  2Racks number 
 one objective is to provide live performance opportunities for indepen
 dent artists to become more successful and self-sustaining.  2Racks i
 s building a genuine network of Independent Rap Entrepreneurs,  encou
 rages artists to listen to each other’s music and provides a pricele
 ss opportunity, a platform to be seen and heard in front of new audien
 ces.  2Racks has produced 45 successful shows in its first three year
 s and partnered nationally with Reverb Nation, Fusicology, the Hip Ho
 p Congress and several local and regional promo companies, radio stati
 ons, studios and organizations.  2Racks Rap Contest has booked close
  to 1000 talented and emerging hip hop artists from across the country
  that have performed in front of industry professional and celebrity j
 udges ranging from music supervisors, radio station music directors, o
 n-air personalities, producers and artists.  2Racks Rap Contest is In
 dependent Hip Hop, it invests in artists on the rise and respects and 
 contributes to the Culture of Hip Hop.\n\nFor more information visit h
 ttp://trueskool.com/events/2racks-rap-contest-presented-by-sellassie-2
DTSTART;TZID=America/Los_Angeles:20140709T200000
DTEND;TZID=America/Los_Angeles:20140710T140000
CATEGORIES:san, francisco, sf, bayarea, bay, area, oakland, berkeley, 
 jose, cali, california, ca
LOCATION:1015 Folsom, San Francisco, Ca
WEBSITE:http://2rackscontestsf.bpt.me
URL:http://2rackscontestsf.bpt.me
CONTACT:
ORGANIZER;CN="Inhouse Talent":http://trueskool.com/profile/InhouseTale
 nt
ATTACH;FMTTYPE="image/jpeg":http://storage.ning.com/topology/rest/1.0/
 file/get/2247963473?profile=original
ATTENDEE;ROLE=REQ-PARTICIPANT;PARTSTAT=ACCEPTED;RSVP=TRUE;CN="Inhouse 
 Talent":http://trueskool.com/profile/InhouseTalent
END:VEVENT
END:VCALENDAR
