BEGIN:VCALENDAR
PRODID:NingEventWidget-v1
VERSION:2.0
METHOD:PUBLISH
BEGIN:VTIMEZONE
TZID:America/Los_Angeles
X-LIC-LOCATION:America/Los_Angeles
BEGIN:DAYLIGHT
TZOFFSETFROM:-0800
TZOFFSETTO:-0700
TZNAME:PDT
DTSTART:19700308T020000
RRULE:FREQ=YEARLY;BYMONTH=3;BYDAY=2SU
END:DAYLIGHT
BEGIN:STANDARD
TZOFFSETFROM:-0700
TZOFFSETTO:-0800
TZNAME:PST
DTSTART:19701101T020000
RRULE:FREQ=YEARLY;BYMONTH=11;BYDAY=1SU
END:STANDARD
END:VTIMEZONE
BEGIN:VEVENT
UID:1464587:Event:367084
DTSTAMP:20260421T084414Z
SUMMARY:2RACKS RAP CONTEST BK Presented by Sellassie
DESCRIPTION:Registration + Info:Â  415-484-5704Â  www.inhousetalent.co
 m\n 2Racks Rap Contest announces the return to New York on July 2, 201
 4. Â Â 2Racks is a Nation-Wide Original Song Contest started in 2010 b
 y Sellassie and Inhouse Talent in San Francisco, CA.Â  Â 2Racks Rap Co
 ntest stops in more than 12 cities from coast to coast includingÂ Los 
 Angeles, New York, San Francisco, Berkeley, Chicago, DC, Atlanta,Â Aus
 tin, Houston, Orlando & Seattle.Â Â  2Racks looks forward to returning
  to the birthplace Hip Hop.\nÂ \nThe 2Racks Rap Contest is a fast-pace
 d song competition for upcoming Hip Hop Artists to showcase original m
 aterial, perform live and compete for a $2000 Cash Prize. Â The series
  is innovative, trendsetting, and authentic and is consistently packin
 g clubs for new music.Â Â 2Racks number one objective is to provide li
 ve performance opportunities for independent artists to become more su
 ccessful and self-sustaining.Â  2Racks is building a genuine network o
 f Independent Rap Entrepreneurs, encourages artists to listen to each 
 otherâ€™s music and provides a priceless opportunity, a platform to be
  seen and heard in front of new audiences.Â  2Racks has produced 44 su
 ccessful shows in its first two years and partnered nationally with Re
 verb Nation,Â Fusicology, the Hip Hop Congress and several local and r
 egional promo companies, radio stations, studios and organizations.Â Â
  2Racks Rap Contest has booked close to 1000 talented and emerging hip
  hop artists from across the country that have performed in front of i
 ndustry professional and celebrity judges ranging from music superviso
 rs, radio station music directors, on-air personalities, producers and
  artists. Â 2Racks Rap Contest is Independent Hip Hop, it invests in a
 rtists on the rise and respects and contributes to the Culture of Hip 
 Hop.\n\nFor more information visit http://trueskool.com/events/2racks-
 rap-contest-bk-presented-by-sellassie
DTSTART;TZID=America/Los_Angeles:20140702T200000
DTEND;TZID=America/Los_Angeles:20140703T020000
CATEGORIES:brooklyn, ny, new, york, bk, nyc
LOCATION:SRB Brooklyn, Brooklyn
WEBSITE:http://2racksbk.bpt.me
URL:http://2racksbk.bpt.me
CONTACT:415-484-5704
ORGANIZER;CN="Inhouse Talent":http://trueskool.com/profile/InhouseTale
 nt
ATTACH;FMTTYPE="image/jpeg":http://storage.ning.com/topology/rest/1.0/
 file/get/2247962569?profile=original
ATTENDEE;ROLE=REQ-PARTICIPANT;PARTSTAT=ACCEPTED;RSVP=TRUE;CN="Inhouse 
 Talent":http://trueskool.com/profile/InhouseTalent
END:VEVENT
END:VCALENDAR
