BEGIN:VCALENDAR
PRODID:NingEventWidget-v1
VERSION:2.0
METHOD:PUBLISH
BEGIN:VTIMEZONE
TZID:America/Los_Angeles
X-LIC-LOCATION:America/Los_Angeles
BEGIN:DAYLIGHT
TZOFFSETFROM:-0800
TZOFFSETTO:-0700
TZNAME:PDT
DTSTART:19700308T020000
RRULE:FREQ=YEARLY;BYMONTH=3;BYDAY=2SU
END:DAYLIGHT
BEGIN:STANDARD
TZOFFSETFROM:-0700
TZOFFSETTO:-0800
TZNAME:PST
DTSTART:19701101T020000
RRULE:FREQ=YEARLY;BYMONTH=11;BYDAY=1SU
END:STANDARD
END:VTIMEZONE
BEGIN:VEVENT
UID:1464587:Event:642233
DTSTAMP:20260420T170351Z
SUMMARY:2nd Annual Women's Empowerment Show
DESCRIPTION:ENTER TO WIN A PAIR OF TICKETS. WINNER WILL BE DRAWN RANDO
 MLY AND ANNOUNCED 2 DAYS PRIOR TO EVENT.   \n\n\nThis will be a cel
 ebration of Women's contributions in Hip Hop! Some of us remember the 
 early 80s and 90s when MC Sha Rock, MC Lyte, Queen Latifah and many mo
 re were putting it down for the culture. It seems these days any femal
 e in Hip Hop is forced to be a sex symbol and we too often hear narrat
 ives that perpetuate patriarchy and misogyny. HipHopForChange's fight 
 for the culture must include lifting up our sisters and providing a sp
 ace for the diverse and powerful female voice!  TICKETS: https://www.
 squadup.com/events/2nd-annual-womens-empowerment-show  HipHopForChange
 .org & Venus Rising presents:    2nd Annual Women's Empowerment Show 
  Featuring CMG of Conscious Daughters and Pam the Funkstress  Ryan Nic
 ole  YaNi  Femme Deadly Venoms  DJ Deeandroid  Hosted by Breathless & 
 Charity Clay  18+  March 5th  Starline Social Club 645 West Grand Oakl
 and   9pm  $10 Presale $15 at the Door\n\nFor more information visit 
 http://trueskool.com/events/2nd-annual-women-s-empowerment-show
DTSTART;TZID=America/Los_Angeles:20160305T210000
DTEND;TZID=America/Los_Angeles:20160306T020000
CATEGORIES:starlinesocialclub, "bay area", "west oakland", oakland, "m
 lk and west grand"
LOCATION:Starline Social Club, Oakland, CA
WEBSITE:https://www.squadup.com/events/2nd-annual-womens-empowerment-s
 how
URL:https://www.squadup.com/events/2nd-annual-womens-empowerment-show
CONTACT:415 202 4817
ORGANIZER;CN="joseph penner":http://trueskool.com/profile/josephpenner
ATTACH;FMTTYPE="image/jpeg":http://storage.ning.com/topology/rest/1.0/
 file/get/2247984458?profile=original
ATTENDEE;ROLE=REQ-PARTICIPANT;PARTSTAT=ACCEPTED;RSVP=TRUE;CN="Donte Ha
 rrison":http://trueskool.com/profile/DonteHarrison
ATTENDEE;ROLE=REQ-PARTICIPANT;PARTSTAT=ACCEPTED;RSVP=TRUE;CN="joseph p
 enner":http://trueskool.com/profile/josephpenner
END:VEVENT
END:VCALENDAR
