BEGIN:VCALENDAR
PRODID:NingEventWidget-v1
VERSION:2.0
METHOD:PUBLISH
BEGIN:VTIMEZONE
TZID:America/Los_Angeles
X-LIC-LOCATION:America/Los_Angeles
BEGIN:DAYLIGHT
TZOFFSETFROM:-0800
TZOFFSETTO:-0700
TZNAME:PDT
DTSTART:19700308T020000
RRULE:FREQ=YEARLY;BYMONTH=3;BYDAY=2SU
END:DAYLIGHT
BEGIN:STANDARD
TZOFFSETFROM:-0700
TZOFFSETTO:-0800
TZNAME:PST
DTSTART:19701101T020000
RRULE:FREQ=YEARLY;BYMONTH=11;BYDAY=1SU
END:STANDARD
END:VTIMEZONE
BEGIN:VEVENT
UID:1464587:Event:653261
DTSTAMP:20260421T015623Z
SUMMARY:Acoustic Soul Fest 2016
DESCRIPTION: Acoustic Soul Fest in the Park | McLaren Park\nSaturday, 
 August 27, 2016 - 1:00 pm to 4:00 pm | Cost: FREE  Jerry Garcia Amphit
 heatre (McLaren Park) | 50 John F Shelley Dr, San Francisco, CA\n\n\nF
 or more information visit http://trueskool.com/events/27-acoustic-soul
 -fest-2016
DTSTART;TZID=America/Los_Angeles:20160827T130000
DTEND;TZID=America/Los_Angeles:20160827T160000
CATEGORIES:"san francisco", oakland, berkley, "san jose", "bay area"
LOCATION:Jerry Garcia Amphitheatre, San Francisco
WEBSITE:https://www.eventbrite.com/e/acoustic-soul-fest-vol-2-music-fe
 stival-tickets-26555941536?aff=aff0eventful
URL:https://www.eventbrite.com/e/acoustic-soul-fest-vol-2-music-festiv
 al-tickets-26555941536?aff=aff0eventful
CONTACT:
ORGANIZER;CN="Editor's Pick":http://trueskool.com/profile/RentheVinylA
 rchaeologist
ATTACH;FMTTYPE="image/jpeg":http://storage.ning.com/topology/rest/1.0/
 file/get/2247990560?profile=original
ATTENDEE;ROLE=REQ-PARTICIPANT;PARTSTAT=ACCEPTED;RSVP=TRUE;CN="Editor's
  Pick":http://trueskool.com/profile/RentheVinylArchaeologist
END:VEVENT
END:VCALENDAR
