BEGIN:VCALENDAR
PRODID:NingEventWidget-v1
VERSION:2.0
METHOD:PUBLISH
BEGIN:VTIMEZONE
TZID:America/Los_Angeles
X-LIC-LOCATION:America/Los_Angeles
BEGIN:DAYLIGHT
TZOFFSETFROM:-0800
TZOFFSETTO:-0700
TZNAME:PDT
DTSTART:19700308T020000
RRULE:FREQ=YEARLY;BYMONTH=3;BYDAY=2SU
END:DAYLIGHT
BEGIN:STANDARD
TZOFFSETFROM:-0700
TZOFFSETTO:-0800
TZNAME:PST
DTSTART:19701101T020000
RRULE:FREQ=YEARLY;BYMONTH=11;BYDAY=1SU
END:STANDARD
END:VTIMEZONE
BEGIN:VEVENT
UID:1464587:Event:652720
DTSTAMP:20260420T191530Z
SUMMARY:2016 DMC USA DJ Finals
DESCRIPTION:\nTickets: $17.91 + fees = $20 at www.eventbrite.com/e/201
 6-dmc-us-finals-dj-battle-tickets-26525423255. $20 at the door. $10 fo
 r youth 18 and under.\n\n2016 DMC US Finals DJ Battle presented by Ran
 e\nSunday, Aug. 28th, 2016\nShowcase: DJ CRAZE - 3x DMC World Champion
 \nHost: TOQUON THA MC\nPartyrocker: DJ APOLLO - DMC World Champion\n5p
 m - 9pm\nNO Filming\nAll Ages.\nNew Parish 1743 San Pablo Ave, Oakland
 , CA 94612\nwww.thenewparish.com\n\nJudges: DJ Craze, DJ Apollo, DJ 8-
 Ball, DJ Quest, DJ Snayk Eyez, DJ Esquire, Mista B, DJ Cue, Goldenchyl
 d, Pos Red, Billy Jam, DJ Pone & more tba.\n\nCompetitors Include:\nDM
 C Bay Area champ: TRAPS (San Jose CA)\nDMC Los Angeles champ: DJ SHAKE
  ONE (Denver CO)\nDMC NYC champ: DJ PERLY (Poughkeepsie NY)\nDMC Atlan
 ta champ: DJ JAYCEE (Atlanta)\nDMC Tampa champ: JSTORM (Tampa)\nDMC De
 nver champ: ETCHA SKRATCH (Littleton CO)\nDMC DC champ: DJ AS-ONE (Roc
 kville MD)\nDMC Cincinnati champ: EASE (Rochester NY)\nDMC Chicago cha
 mp: TOLTECH (Chicago)\nDMC San Antonio Champ: AMBIDECKSTRIKS (Chicago)
 \nBOMBEARDO (Knockemstiff OH) Chicago Runner Up\nSHMEEZE (Los Angeles 
 CA) - Los Angeles Runner Up\nSPARECHANGE (Dayton OH) - Cincinnati Runn
 er Up\n\nThis is DMC’s classic solo showcase style DJ battle. Each c
 ompetitor will perform a 6 min. routine. The top 3 champs will be dete
 rmined by our panel of expert judges. The 2016 DMC US Champion will re
 present the USA at the 2016 DMC World DJ Championships on Sept. 24th i
 n London.\n\nSPONSORS\nRANE: http://dj.rane.com/ - Presenting Sponsor!
 \nPEAVEY: www.peavey.com\nSERATO: www.serato.com\n12INCHSKINZ: www.12i
 nchskinz.com\nUNUSUAL SUSPECTS: www.unusualsuspectsshop.com\nIDJNOW ww
 w.idjnow.com\nFATBEATS www.fatbeats.com\nSCRATCH: www.scratch.com\nNUM
 ARK www.numark.com\nGUITAR CENTER www.guitarcenter.com\nSHURE: www.shu
 re.com\nBEAT JUNKIES www.beatjunkies.com\nBOMB HIP HOP: www.bombhiphop
 .com\nTHUD RUMBLE: www.thudrumble.com\nORTOFON: www.ortofon.com\nDJ CU
 E: http://djcue.com/\nHIP HOP CHESS FEDERATION www.hiphopchessfederati
 on.org\nTRUE SKOOL: http://www.trueskool.com/\nSLOW ROAST RECORDS www.
 slowroastrecs.com\nOLIVE STREET: www.facebook.com/TheOliveStreetAgency
 \nBATTLE AVE: www.thebattleave.com\nIGNACIO SOLTERO http://photosby.de
 ejaysoul.com/\nSKRATCHPAD: http://skratchpadworldwide.com/\nDJ BIG TIM
 E: www.facebook.com/DJBIGTIME5150/?fref=ts\nHIP HOP SLAM + BILLY JAM: 
 www.hiphopslam.com\nMISTA B: www.facebook.com/DJ-Mista-B-85351697676\n
 JOYSCO: www.joysco.com\n\nwww.dmcdjchamps.com\nwww.youtube.com/TheOFFI
 CIALDMCUSA\nwww.facebook.com/groups/dmcusa\nhttp://twitter.com/dmcusad
 jbattles\nwww.facebook.com/pages/DMC-USA-National-DJ-Battles/178103952
 299780\nhttps://instagram.com/dmcusadjbattles/\nhttp://vimeo.com/dmcus
 a\nhttp://stores.ebay.com/DMC-USA-DJ-Gear\n\nFor more information visi
 t http://trueskool.com/events/2016-dmc-usa-dj-finals
DTSTART;TZID=America/Los_Angeles:20160828T170000
DTEND;TZID=America/Los_Angeles:20160828T210000
CATEGORIES:"bay area", "san francisco"
LOCATION:The New Parish, Oakland
WEBSITE:http://www.eventbrite.com/e/2016-dmc-us-finals-dj-battle-ticke
 ts-26525423255
URL:http://www.eventbrite.com/e/2016-dmc-us-finals-dj-battle-tickets-2
 6525423255
CONTACT:
ORGANIZER:Tools of War
ATTACH;FMTTYPE="image/jpeg":http://storage.ning.com/topology/rest/1.0/
 file/get/2247990204?profile=original
ATTENDEE;ROLE=REQ-PARTICIPANT;PARTSTAT=ACCEPTED;RSVP=TRUE;CN="Editor's
  Pick":http://trueskool.com/profile/RentheVinylArchaeologist
END:VEVENT
END:VCALENDAR
