BEGIN:VCALENDAR
PRODID:NingEventWidget-v1
VERSION:2.0
METHOD:PUBLISH
BEGIN:VTIMEZONE
TZID:America/Los_Angeles
X-LIC-LOCATION:America/Los_Angeles
BEGIN:DAYLIGHT
TZOFFSETFROM:-0800
TZOFFSETTO:-0700
TZNAME:PDT
DTSTART:19700308T020000
RRULE:FREQ=YEARLY;BYMONTH=3;BYDAY=2SU
END:DAYLIGHT
BEGIN:STANDARD
TZOFFSETFROM:-0700
TZOFFSETTO:-0800
TZNAME:PST
DTSTART:19701101T020000
RRULE:FREQ=YEARLY;BYMONTH=11;BYDAY=1SU
END:STANDARD
END:VTIMEZONE
BEGIN:VEVENT
UID:1464587:Event:626259
DTSTAMP:20260421T103325Z
SUMMARY:2015 DMC TAMPA Regional DJ Battle
DESCRIPTION:Sunday, April 19, 2015: Rane in assoc. with Crowbar & DJ F
 ader presents The 2015 DMC TAMPA Regional DJ BattleÂ Special guest: DJ
  BOOGIE BLIND!Â \nCrowbarÂ 1812 N 17th St Tampa, FL 33605\nwww.ticketf
 ly.com/event/823439-dmc-tampa-regional-battle-tampaÂ  Â  Â \nwww.faceb
 ook.com/crowbarliveHost: DMC Hall of Famer: DJ Charlie ChaseJudges inc
 lude Boogie Blind, Concept, J-Storm, SPS, Shotgun, DJ Fader and more!\
 n7pm-11pm. $10 in adv. $15 day of. All Ages\n*No filming is permittedÂ
  Ol Dirty Sundays will follow with DJ Casper, Lesage & DJ Fader + rock
 ing the classic Hip Hop, Funk, Reggae and Soul joints you grew up with
 , as well as any other \"feel good\" vibes or madness we select.https:
 //www.facebook.com/oldirtysundaysÂ 18+www.oldirtysundays.comwww.twitte
 r.com/oldirtysundayswww.soundcloud.com/oldirtysundayswww.dmcdjchamps.c
 om\n\nFor more information visit http://trueskool.com/events/2015-dmc-
 tampa-regional-dj-battle-1
DTSTART;TZID=America/Los_Angeles:20150419T190000
DTEND;TZID=America/Los_Angeles:20150419T230000
CATEGORIES:tampa
LOCATION:Crowbar, Tampa
WEBSITE:http://www.ticketfly.com/event/823439-dmc-tampa-regional-battl
 e-tampa
URL:http://www.ticketfly.com/event/823439-dmc-tampa-regional-battle-ta
 mpa
CONTACT:www.facebook.com/crowbarlive
ORGANIZER:Christie Z-Pabon, DJ Fader
ATTACH;FMTTYPE="image/jpeg":http://storage.ning.com/topology/rest/1.0/
 file/get/2247975522?profile=original
ATTENDEE;ROLE=REQ-PARTICIPANT;PARTSTAT=ACCEPTED;RSVP=TRUE;CN="Christie
  Z-Pabon":http://trueskool.com/profile/ChristieZPabon
END:VEVENT
END:VCALENDAR
