BEGIN:VCALENDAR
PRODID:NingEventWidget-v1
VERSION:2.0
METHOD:PUBLISH
BEGIN:VTIMEZONE
TZID:America/Los_Angeles
X-LIC-LOCATION:America/Los_Angeles
BEGIN:DAYLIGHT
TZOFFSETFROM:-0800
TZOFFSETTO:-0700
TZNAME:PDT
DTSTART:19700308T020000
RRULE:FREQ=YEARLY;BYMONTH=3;BYDAY=2SU
END:DAYLIGHT
BEGIN:STANDARD
TZOFFSETFROM:-0700
TZOFFSETTO:-0800
TZNAME:PST
DTSTART:19701101T020000
RRULE:FREQ=YEARLY;BYMONTH=11;BYDAY=1SU
END:STANDARD
END:VTIMEZONE
BEGIN:VEVENT
UID:1464587:Event:626166
DTSTAMP:20260420T170357Z
SUMMARY:2015 DMC SAN FRANCISCO Regional DJ Battle + DMC Battle for US 
 Supremacy
DESCRIPTION:\nSun. April 12, 2015: Rane in assoc. with DJ Cue & Specia
 l Tech DJ presents The 2015 DMC SAN FRANCISCO Regional DJ Battle + 20
 15 DMC Battle for US Supremacy  1pm-7pm. ALL AGES! @ Brick & Mortar M
 usic Hall 1710 Mission St San Francisco, CA 94103. $15 adv. $20 day o
 f @ http://brickandmortarmusic.com/event.cfm?id=193860&cart *No film
 ing.  Hosts: DJ Apollo & Chuy Gomez Feat. 2014 DMC World Supremacy Cha
 mp: IFTW  plus CJ Flash, and Mista B  Judges: Shortkut, Swift Rock, 
 8-Ball, Pos Red, IFTW, Kuttin Kandi & more tba!  www.specialtechdj.co
 m www.dmcdjchamps.com\n\nFor more information visit http://trueskool.c
 om/events/2015-dmc-san-francisco-regional-dj-battle-dmc-battle-for-us
DTSTART;TZID=America/Los_Angeles:20150412T130000
DTEND;TZID=America/Los_Angeles:20150412T190000
CATEGORIES:"san francisco", "bay area"
LOCATION:Brick & Mortar, San Francisco
WEBSITE:http://brickandmortarmusic.com/event.cfm?id=193860&cart
URL:http://brickandmortarmusic.com/event.cfm?id=193860&cart
CONTACT:
ORGANIZER:Christie Z-Pabon, DJ Cue, Special Tech DJ
ATTACH;FMTTYPE="image/jpeg":http://storage.ning.com/topology/rest/1.0/
 file/get/2247977344?profile=original
ATTENDEE;ROLE=REQ-PARTICIPANT;PARTSTAT=ACCEPTED;RSVP=TRUE;CN="Christie
  Z-Pabon":http://trueskool.com/profile/ChristieZPabon
END:VEVENT
END:VCALENDAR
