BEGIN:VCALENDAR
PRODID:NingEventWidget-v1
VERSION:2.0
METHOD:PUBLISH
BEGIN:VTIMEZONE
TZID:America/Los_Angeles
X-LIC-LOCATION:America/Los_Angeles
BEGIN:DAYLIGHT
TZOFFSETFROM:-0800
TZOFFSETTO:-0700
TZNAME:PDT
DTSTART:19700308T020000
RRULE:FREQ=YEARLY;BYMONTH=3;BYDAY=2SU
END:DAYLIGHT
BEGIN:STANDARD
TZOFFSETFROM:-0700
TZOFFSETTO:-0800
TZNAME:PST
DTSTART:19701101T020000
RRULE:FREQ=YEARLY;BYMONTH=11;BYDAY=1SU
END:STANDARD
END:VTIMEZONE
BEGIN:VEVENT
UID:1464587:Event:663264
DTSTAMP:20260421T083851Z
SUMMARY:1st Annual Oaktown Reggae Fest feat. Sizzla, Los Rakas, Marlon
  Asher, Pressure... @ Level 13 Backyard, Oakland
DESCRIPTION: ENTER TO WIN A PAIR OF TICKETS. WINNER WILL BE DRAWN RAND
 OMLY AND ANNOUNCED 2 DAYS PRIOR TO EVENT. \n SATURDAY, JUNE 17\n1st A
 nnual Oaktown Reggae Fest @Level 13 Backyard\nLEVEL 13's FIRST BLOCK P
 ARTY JUNE 17TH 2017 ADVANCE TICKETS NOW ON SALE! We are pleased to ann
 ounce the first annual Oaktown Reggae Fest located in downtown Oakland
 ! This will be a 21 and over event, featuring some of the biggest Regg
 ae artists from Jamaica and Virgin Islands alongside local Bay Area so
 und systems. A mini festival in the heart of downtown Oakland with ind
 oor and outdoor stages! Please note THIS EVENT WILL SELL OUT!!\nFEATUR
 ING LIVE PERORMANCES BY: SIZZLA KALONJI\nPRESSURE BUSS PIPE\nMARLON AS
 HER\nRAS SHILOH\nIZAC KING\nPLUS THE BAY'S DJS D-SHARP, YOUNG FYAH, KO
 BIE, DOOGIE, & BIG RICH\n\n@ LEVEL 13, 341 13th Street, Oakland, CA 94
 612 2PM-9PM, 21+\n>> BUY TICKETS\n\nStay tuned for more information re
 garding set times, etc... Check our weekly Reggae~Dancehall party ever
 y Thursday night at Level 13 brought to you by DJ GREEN B rsvp for fre
 e entry: djgreenb.com/newlevel\n\n\n\nFor more information visit http:
 //trueskool.com/events/1st-annual-oaktown-reggae-fest-level-13-backyar
 d
DTSTART;TZID=America/Los_Angeles:20170617T140000
DTEND;TZID=America/Los_Angeles:20170617T210000
CATEGORIES:"bay area", oakland
LOCATION:LEVEL 13
WEBSITE:https://www.eventbrite.com/e/1st-annual-oaktown-reggae-fest-le
 vel-13-backyard-tickets-34712361608
URL:https://www.eventbrite.com/e/1st-annual-oaktown-reggae-fest-level-
 13-backyard-tickets-34712361608
CONTACT:
ORGANIZER:LEVEL 13
ATTACH;FMTTYPE="image/jpeg":http://storage.ning.com/topology/rest/1.0/
 file/get/2247997954?profile=original
ATTENDEE;ROLE=REQ-PARTICIPANT;PARTSTAT=ACCEPTED;RSVP=TRUE;CN="Editor's
  Pick":http://trueskool.com/profile/RentheVinylArchaeologist
ATTENDEE;ROLE=REQ-PARTICIPANT;PARTSTAT=ACCEPTED;RSVP=TRUE;CN="Ren the 
 Vinyl Archaeologist":http://trueskool.com/profile/xh51jvilojur
END:VEVENT
END:VCALENDAR
