BEGIN:VCALENDAR
PRODID:NingEventWidget-v1
VERSION:2.0
METHOD:PUBLISH
BEGIN:VTIMEZONE
TZID:America/Los_Angeles
X-LIC-LOCATION:America/Los_Angeles
BEGIN:DAYLIGHT
TZOFFSETFROM:-0800
TZOFFSETTO:-0700
TZNAME:PDT
DTSTART:19700308T020000
RRULE:FREQ=YEARLY;BYMONTH=3;BYDAY=2SU
END:DAYLIGHT
BEGIN:STANDARD
TZOFFSETFROM:-0700
TZOFFSETTO:-0800
TZNAME:PST
DTSTART:19701101T020000
RRULE:FREQ=YEARLY;BYMONTH=11;BYDAY=1SU
END:STANDARD
END:VTIMEZONE
BEGIN:VEVENT
UID:1464587:Event:82161
DTSTAMP:20260420T152025Z
SUMMARY:1st Annual feeling the reggae 420 festivel
DESCRIPTION:This is the 1st of many to come Fellin' the Reggea festiva
 ls!!! Sky-I and the Inner Riddim (myspace.com/innerriddim), Coastal Sa
 ge(myspace.com/costalsage) as well as Jordan and the RituaL will perfo
 rm live in the beautiful interior of British Bankers Club in Menlo Par
 k,CA. Come over to enjoy this night with us! $15 at the door.$10 pre s
 ale http://www.eventbrite.com/event/1519315313\n\nFor more information
  visit http://trueskool.com/events/1st-annual-feeling-the-reggae-1
DTSTART;TZID=America/Los_Angeles:20110420T200000
DTEND;TZID=America/Los_Angeles:20110421T020000
CATEGORIES:menlo, park, ca
LOCATION:British banker club
WEBSITE:http://www.facebook.com/#!/event.php?eid=182521668461470
URL:http://www.facebook.com/#!/event.php?eid=182521668461470
CONTACT:
ORGANIZER;CN=Misha:http://trueskool.com/profile/RealisticSolution312
ATTACH;FMTTYPE="image/jpeg":http://storage.ning.com/topology/rest/1.0/
 file/get/2247894570?profile=original
ATTENDEE;ROLE=REQ-PARTICIPANT;PARTSTAT=ACCEPTED;RSVP=TRUE;CN=Misha:htt
 p://trueskool.com/profile/RealisticSolution312
END:VEVENT
END:VCALENDAR
