BEGIN:VCALENDAR
PRODID:NingEventWidget-v1
VERSION:2.0
METHOD:PUBLISH
BEGIN:VTIMEZONE
TZID:America/Los_Angeles
X-LIC-LOCATION:America/Los_Angeles
BEGIN:DAYLIGHT
TZOFFSETFROM:-0800
TZOFFSETTO:-0700
TZNAME:PDT
DTSTART:19700308T020000
RRULE:FREQ=YEARLY;BYMONTH=3;BYDAY=2SU
END:DAYLIGHT
BEGIN:STANDARD
TZOFFSETFROM:-0700
TZOFFSETTO:-0800
TZNAME:PST
DTSTART:19701101T020000
RRULE:FREQ=YEARLY;BYMONTH=11;BYDAY=1SU
END:STANDARD
END:VTIMEZONE
BEGIN:VEVENT
UID:1464587:Event:649887
DTSTAMP:20260420T141403Z
SUMMARY:17th Annual Laurel Street Fair
DESCRIPTION:Laurel District Association Presents:\nThe 17th Annual Lau
 rel Street Fair\nSaturday, August 13th 2016\n\nWorld Class Music | DJâ
 €™s | Community Yoga | Artisan Vendors Â |Â Biergarten Â & Libations |
 Childrenâ€™s Carnival | Petting Zoo | Food Trucks\n\nThe Laurel Street
  Fair is proud to be celebrating our 17th year of maintaining an admis
 sion free, outdoor festival that is open to all! Join us for an aftern
 oon of celebrating one of Oaklandâ€™s most unique and thriving neighbo
 rhoods, our beloved Laurel District!\n\n17th Annual Laurel Street Fair
 \nSaturday, August 13th 2016\nMacArthur Blvd. Between 35th - 39th Aven
 ues, Oakland CA\n11am - 6pm | Admission Free & Open To All |\nWheelcha
 ir Accessible\n\nFEATURING:\nPiwai\nDJ Cecil (SKIN / thePeople)\nCal R
 aijin Taiko\nRub A Dub Posse\nMandinga Capoeria\nOrquestra Borinquen\n
 DJ heyLove\nPrescott Circus\nBatala Drum Ensemble\nDJ Riddim\nRoots of
  Rhythm Collective\nOakland Youth Poets\nEmcee Preston Justice\n\nINFO
 :\nhttp://www.laurelstreetfair.com\n\nFor more information visit http:
 //trueskool.com/events/17th-annual-laurel-street-fair
DTSTART;TZID=America/Los_Angeles:20160813T110000
DTEND;TZID=America/Los_Angeles:20160813T180000
CATEGORIES:oakland, east, bay, area, laurel, district
LOCATION:Laurel District
WEBSITE:http://www.laurelstreetfair.com
URL:http://www.laurelstreetfair.com
CONTACT:
ORGANIZER;CN="miss candi":http://trueskool.com/profile/misscandi
ATTACH;FMTTYPE="image/jpeg":http://storage.ning.com/topology/rest/1.0/
 file/get/2247988373?profile=original
ATTENDEE;ROLE=REQ-PARTICIPANT;PARTSTAT=ACCEPTED;RSVP=TRUE;CN="miss can
 di":http://trueskool.com/profile/misscandi
END:VEVENT
END:VCALENDAR
