BEGIN:VCALENDAR
PRODID:NingEventWidget-v1
VERSION:2.0
METHOD:PUBLISH
BEGIN:VTIMEZONE
TZID:America/Los_Angeles
X-LIC-LOCATION:America/Los_Angeles
BEGIN:DAYLIGHT
TZOFFSETFROM:-0800
TZOFFSETTO:-0700
TZNAME:PDT
DTSTART:19700308T020000
RRULE:FREQ=YEARLY;BYMONTH=3;BYDAY=2SU
END:DAYLIGHT
BEGIN:STANDARD
TZOFFSETFROM:-0700
TZOFFSETTO:-0800
TZNAME:PST
DTSTART:19701101T020000
RRULE:FREQ=YEARLY;BYMONTH=11;BYDAY=1SU
END:STANDARD
END:VTIMEZONE
BEGIN:VEVENT
UID:1464587:Event:134793
DTSTAMP:20260420T170205Z
SUMMARY:10/5 Native Elements Live @ Vice Ultra Lounge, Walnut Creek
DESCRIPTION:After more than a year, Native Elements returns to Vice Ul
 tra Lounge with special guest The Highway Band featuring DJ Kure All.Â
  Food provided by Kinders. Free Parking. Dress Code: No hats, no plain
  white tees and no shorts. $5 Guest List $10 Door.Â  For more informat
 ion on our guest list or bottle service, please call 925-979-0132Â \n\
 nFor more information visit http://trueskool.com/events/10-5-native-el
 ements-live-vice-ultra-lounge-walnut-creek
DTSTART;TZID=America/Los_Angeles:20121005T210000
DTEND;TZID=America/Los_Angeles:20121006T013000
CATEGORIES:"walnut creek", ca, "bay area", "san francisco"
LOCATION:Vice Ultra Lounge, Walnut Creek, CA
WEBSITE:http://www.viceultralounge.com
URL:http://www.viceultralounge.com
CONTACT:925-979-0132
ORGANIZER;CN="Good Fridays":http://trueskool.com/profile/ViceUltraLoun
 ge
ATTACH;FMTTYPE="image/jpeg":http://storage.ning.com/topology/rest/1.0/
 file/get/2247924242?profile=original
ATTENDEE;ROLE=REQ-PARTICIPANT;PARTSTAT=ACCEPTED;RSVP=TRUE;CN="Good Fri
 days":http://trueskool.com/profile/ViceUltraLounge
END:VEVENT
END:VCALENDAR
