BEGIN:VCALENDAR
PRODID:NingEventWidget-v1
VERSION:2.0
METHOD:PUBLISH
BEGIN:VTIMEZONE
TZID:America/Los_Angeles
X-LIC-LOCATION:America/Los_Angeles
BEGIN:DAYLIGHT
TZOFFSETFROM:-0800
TZOFFSETTO:-0700
TZNAME:PDT
DTSTART:19700308T020000
RRULE:FREQ=YEARLY;BYMONTH=3;BYDAY=2SU
END:DAYLIGHT
BEGIN:STANDARD
TZOFFSETFROM:-0700
TZOFFSETTO:-0800
TZNAME:PST
DTSTART:19701101T020000
RRULE:FREQ=YEARLY;BYMONTH=11;BYDAY=1SU
END:STANDARD
END:VTIMEZONE
BEGIN:VEVENT
UID:1464587:Event:675488
DTSTAMP:20260421T052736Z
SUMMARY:1 UP: Benefit for Purple Pam Foundation
DESCRIPTION:1 UP\nFRIDAY JUNE 15th\n@ EMPORIUM SF\n9:00pm - 2:00am I 2
 1+\nFREE ALL NIGHT\n*PORTION OF PROCEEDS AT BAR\nGO TO BENEFIT THE PUR
 PLE PAM FOUNDATION\n\nLocal promoter Traci P and San Francisco’s new
 est nightlife and entertainment destination, Emporium SF (www.emporium
 sf.com) are joining forces to bring you a DJ party with a purpose. ‘
 1 UP’ will be a continued series of events at the venue with focus o
 n a diverse roster of female talent. A two pronged premise, a portion 
 of proceeds at the bar will be donated to a featured non-profit either
  founded by or centered around a female figure.\nTalent for the launch
  event will feature a strong line-up of prominent artists, Umami (102.
 1 & Golden State Warriors), DJ Lady Fingaz (Peaches Crew & La Femme De
 adly Venoms), Red Corvette (Women in Music Festival) and Sweetest Thre
 at (Another Party Fam).\nThe event will be FREE at the door with donat
 ions welcomed, but a portion of the bar proceeds will be donated to th
 e PURPLE PAM FOUNDATION (www.purplepamfoundation.com) which was founde
 d in the wake of the passing of Oakland’s legendary DJ, Pam the Funk
 stress of the group The Coup.\n1 UP is an important event for all thos
 e involved as it strives to focus not only on talented women but also 
 donate to a great cause every time. We hope that all those who join us
  enjoy themselves, celebrate influential females as well as return for
  the next event!\n \nYou can check out a bit more on the event by vis
 iting: https://www.facebook.com/events/985402341618376/\n\nFor more in
 formation visit http://trueskool.com/events/1-up-benefit-for-purple-pa
 m-foundation
DTSTART;TZID=America/Los_Angeles:20180615T210000
DTEND;TZID=America/Los_Angeles:20180616T020000
CATEGORIES:san, francisco
LOCATION:Emporium SF, San Francisco, CA
WEBSITE:https://www.facebook.com/events/985402341618376/
URL:https://www.facebook.com/events/985402341618376/
CONTACT:
ORGANIZER;CN="Traci P":http://trueskool.com/profile/TraciP
ATTACH;FMTTYPE="image/jpeg":http://storage.ning.com/topology/rest/1.0/
 file/get/2248007547?profile=original
ATTENDEE;ROLE=REQ-PARTICIPANT;PARTSTAT=ACCEPTED;RSVP=TRUE;CN="Traci P"
 :http://trueskool.com/profile/TraciP
END:VEVENT
END:VCALENDAR
